BEGIN:VCALENDAR
VERSION:2.0
PRODID:-//Camp Chapel United Methodist Church - ECPv6.15.20//NONSGML v1.0//EN
CALSCALE:GREGORIAN
METHOD:PUBLISH
X-WR-CALNAME:Camp Chapel United Methodist Church
X-ORIGINAL-URL:https://campchapel.org
X-WR-CALDESC:Events for Camp Chapel United Methodist Church
REFRESH-INTERVAL;VALUE=DURATION:PT1H
X-Robots-Tag:noindex
X-PUBLISHED-TTL:PT1H
BEGIN:VTIMEZONE
TZID:America/New_York
BEGIN:DAYLIGHT
TZOFFSETFROM:-0500
TZOFFSETTO:-0400
TZNAME:EDT
DTSTART:20280312T070000
END:DAYLIGHT
BEGIN:STANDARD
TZOFFSETFROM:-0400
TZOFFSETTO:-0500
TZNAME:EST
DTSTART:20281105T060000
END:STANDARD
BEGIN:DAYLIGHT
TZOFFSETFROM:-0500
TZOFFSETTO:-0400
TZNAME:EDT
DTSTART:20290311T070000
END:DAYLIGHT
BEGIN:STANDARD
TZOFFSETFROM:-0400
TZOFFSETTO:-0500
TZNAME:EST
DTSTART:20291104T060000
END:STANDARD
BEGIN:DAYLIGHT
TZOFFSETFROM:-0500
TZOFFSETTO:-0400
TZNAME:EDT
DTSTART:20300310T070000
END:DAYLIGHT
BEGIN:STANDARD
TZOFFSETFROM:-0400
TZOFFSETTO:-0500
TZNAME:EST
DTSTART:20301103T060000
END:STANDARD
END:VTIMEZONE
BEGIN:VEVENT
DTSTART;VALUE=DATE:20290101
DTEND;VALUE=DATE:20290102
DTSTAMP:20260419T114326
CREATED:20250917T081028Z
LAST-MODIFIED:20260111T173616Z
UID:10007837-1861920000-1862006399@campchapel.org
SUMMARY:New Years Day
DESCRIPTION:
URL:https://campchapel.org/event/new-years-day-2/2029-01-01/
ATTACH;FMTTYPE=image/jpeg:https://campchapel.org/wp-content/uploads/2024/12/New-Years-Day-scaled-e1733862287849.jpg
END:VEVENT
BEGIN:VEVENT
DTSTART;TZID=America/New_York:20290101T190000
DTEND;TZID=America/New_York:20290101T190000
DTSTAMP:20260419T114326
CREATED:20230511T165805Z
LAST-MODIFIED:20250225T191716Z
UID:10006349-1861988400-1861988400@campchapel.org
SUMMARY:By the Grace of NA
DESCRIPTION:
URL:https://campchapel.org/event/by-the-grace-of-n-a/2029-01-01/
END:VEVENT
END:VCALENDAR