BEGIN:VCALENDAR
VERSION:2.0
PRODID:-//Camp Chapel United Methodist Church - ECPv6.15.20//NONSGML v1.0//EN
CALSCALE:GREGORIAN
METHOD:PUBLISH
X-WR-CALNAME:Camp Chapel United Methodist Church
X-ORIGINAL-URL:https://campchapel.org
X-WR-CALDESC:Events for Camp Chapel United Methodist Church
REFRESH-INTERVAL;VALUE=DURATION:PT1H
X-Robots-Tag:noindex
X-PUBLISHED-TTL:PT1H
BEGIN:VTIMEZONE
TZID:America/New_York
BEGIN:DAYLIGHT
TZOFFSETFROM:-0500
TZOFFSETTO:-0400
TZNAME:EDT
DTSTART:20280312T070000
END:DAYLIGHT
BEGIN:STANDARD
TZOFFSETFROM:-0400
TZOFFSETTO:-0500
TZNAME:EST
DTSTART:20281105T060000
END:STANDARD
BEGIN:DAYLIGHT
TZOFFSETFROM:-0500
TZOFFSETTO:-0400
TZNAME:EDT
DTSTART:20290311T070000
END:DAYLIGHT
BEGIN:STANDARD
TZOFFSETFROM:-0400
TZOFFSETTO:-0500
TZNAME:EST
DTSTART:20291104T060000
END:STANDARD
BEGIN:DAYLIGHT
TZOFFSETFROM:-0500
TZOFFSETTO:-0400
TZNAME:EDT
DTSTART:20300310T070000
END:DAYLIGHT
BEGIN:STANDARD
TZOFFSETFROM:-0400
TZOFFSETTO:-0500
TZNAME:EST
DTSTART:20301103T060000
END:STANDARD
END:VTIMEZONE
BEGIN:VEVENT
DTSTART;TZID=America/New_York:20290211T083000
DTEND;TZID=America/New_York:20290211T083000
DTSTAMP:20260419T174417
CREATED:20250509T081848Z
LAST-MODIFIED:20250509T083300Z
UID:10003439-1865493000-1865493000@campchapel.org
SUMMARY:Traditional Services 8:30 & 11
DESCRIPTION:click here to see full-size movie flyer
URL:https://campchapel.org/event/traditiional-services-830-11-2-2/2029-02-11/
END:VEVENT
BEGIN:VEVENT
DTSTART;TZID=America/New_York:20290211T083000
DTEND;TZID=America/New_York:20290211T083000
DTSTAMP:20260419T174417
CREATED:20250509T083813Z
LAST-MODIFIED:20251211T222757Z
UID:10007299-1865493000-1865493000@campchapel.org
SUMMARY:Traditional Services 8:30 & 11
DESCRIPTION:click here to see full-size movie flyer
URL:https://campchapel.org/event/traditiional-services-830-11-2-2-2/2029-02-11/
END:VEVENT
BEGIN:VEVENT
DTSTART;TZID=America/New_York:20290211T093000
DTEND;TZID=America/New_York:20290211T093000
DTSTAMP:20260419T174417
CREATED:20240329T042203Z
LAST-MODIFIED:20251211T223004Z
UID:10003700-1865496600-1865496600@campchapel.org
SUMMARY:Contemporary Service & Sunday School
DESCRIPTION:click here to see full-size movie flyer
URL:https://campchapel.org/event/contemporary-service-sunday-school/2029-02-11/
END:VEVENT
BEGIN:VEVENT
DTSTART;TZID=America/New_York:20290211T180000
DTEND;TZID=America/New_York:20290211T180000
DTSTAMP:20260419T174417
CREATED:20240521T052200Z
LAST-MODIFIED:20250225T191516Z
UID:10006093-1865527200-1865527200@campchapel.org
SUMMARY:Serenity NA
DESCRIPTION:click here to see full-size movie flyer
URL:https://campchapel.org/event/serenity-na/2029-02-11/
END:VEVENT
BEGIN:VEVENT
DTSTART;TZID=America/New_York:20290212T190000
DTEND;TZID=America/New_York:20290212T190000
DTSTAMP:20260419T174417
CREATED:20230511T165805Z
LAST-MODIFIED:20250225T191716Z
UID:10006355-1865617200-1865617200@campchapel.org
SUMMARY:By the Grace of NA
DESCRIPTION:click here to see full-size movie flyer
URL:https://campchapel.org/event/by-the-grace-of-n-a/2029-02-12/
END:VEVENT
BEGIN:VEVENT
DTSTART;TZID=America/New_York:20290213T190000
DTEND;TZID=America/New_York:20290213T190000
DTSTAMP:20260419T174417
CREATED:20240521T054704Z
LAST-MODIFIED:20241003T170322Z
UID:10005147-1865703600-1865703600@campchapel.org
SUMMARY:Finance (Zoom)
DESCRIPTION:click here to see full-size movie flyer
URL:https://campchapel.org/event/finance-zoom/2029-02-13/
END:VEVENT
BEGIN:VEVENT
DTSTART;TZID=America/New_York:20290216T203000
DTEND;TZID=America/New_York:20290216T203000
DTSTAMP:20260419T174417
CREATED:20240521T052853Z
LAST-MODIFIED:20250313T193220Z
UID:10007036-1865968200-1865968200@campchapel.org
SUMMARY:AA
DESCRIPTION:click here to see full-size movie flyer
URL:https://campchapel.org/event/aa/2029-02-16/
END:VEVENT
BEGIN:VEVENT
DTSTART;TZID=America/New_York:20290218T083000
DTEND;TZID=America/New_York:20290218T083000
DTSTAMP:20260419T174417
CREATED:20250509T081848Z
LAST-MODIFIED:20250509T083300Z
UID:10003440-1866097800-1866097800@campchapel.org
SUMMARY:Traditional Services 8:30 & 11
DESCRIPTION:click here to see full-size movie flyer
URL:https://campchapel.org/event/traditiional-services-830-11-2-2/2029-02-18/
END:VEVENT
BEGIN:VEVENT
DTSTART;TZID=America/New_York:20290218T083000
DTEND;TZID=America/New_York:20290218T083000
DTSTAMP:20260419T174417
CREATED:20250509T083813Z
LAST-MODIFIED:20251211T222757Z
UID:10007300-1866097800-1866097800@campchapel.org
SUMMARY:Traditional Services 8:30 & 11
DESCRIPTION:click here to see full-size movie flyer
URL:https://campchapel.org/event/traditiional-services-830-11-2-2-2/2029-02-18/
END:VEVENT
BEGIN:VEVENT
DTSTART;TZID=America/New_York:20290218T093000
DTEND;TZID=America/New_York:20290218T093000
DTSTAMP:20260419T174417
CREATED:20240329T042203Z
LAST-MODIFIED:20251211T223004Z
UID:10003701-1866101400-1866101400@campchapel.org
SUMMARY:Contemporary Service & Sunday School
DESCRIPTION:click here to see full-size movie flyer
URL:https://campchapel.org/event/contemporary-service-sunday-school/2029-02-18/
END:VEVENT
BEGIN:VEVENT
DTSTART;TZID=America/New_York:20290218T180000
DTEND;TZID=America/New_York:20290218T180000
DTSTAMP:20260419T174417
CREATED:20240521T052200Z
LAST-MODIFIED:20250225T191516Z
UID:10006094-1866132000-1866132000@campchapel.org
SUMMARY:Serenity NA
DESCRIPTION:click here to see full-size movie flyer
URL:https://campchapel.org/event/serenity-na/2029-02-18/
END:VEVENT
BEGIN:VEVENT
DTSTART;TZID=America/New_York:20290219T190000
DTEND;TZID=America/New_York:20290219T190000
DTSTAMP:20260419T174417
CREATED:20230511T165805Z
LAST-MODIFIED:20250225T191716Z
UID:10006356-1866222000-1866222000@campchapel.org
SUMMARY:By the Grace of NA
DESCRIPTION:click here to see full-size movie flyer
URL:https://campchapel.org/event/by-the-grace-of-n-a/2029-02-19/
END:VEVENT
BEGIN:VEVENT
DTSTART;TZID=America/New_York:20290220T183000
DTEND;TZID=America/New_York:20290220T183000
DTSTAMP:20260419T174417
CREATED:20260115T164842Z
LAST-MODIFIED:20260115T164846Z
UID:10008091-1866306600-1866306600@campchapel.org
SUMMARY:Circle of Sisters
DESCRIPTION:click here to see full-size movie flyer
URL:https://campchapel.org/event/circle-of-sisters-2-2/2029-02-20/
END:VEVENT
BEGIN:VEVENT
DTSTART;TZID=America/New_York:20290221T190000
DTEND;TZID=America/New_York:20290221T190000
DTSTAMP:20260419T174417
CREATED:20240521T054015Z
LAST-MODIFIED:20240521T054015Z
UID:10004892-1866394800-1866394800@campchapel.org
SUMMARY:Band of Brothers
DESCRIPTION:click here to see full-size movie flyer
URL:https://campchapel.org/event/band-of-brothers-2/2029-02-21/
END:VEVENT
BEGIN:VEVENT
DTSTART;TZID=America/New_York:20290223T203000
DTEND;TZID=America/New_York:20290223T203000
DTSTAMP:20260419T174417
CREATED:20240521T052853Z
LAST-MODIFIED:20250313T193220Z
UID:10007037-1866573000-1866573000@campchapel.org
SUMMARY:AA
DESCRIPTION:click here to see full-size movie flyer
URL:https://campchapel.org/event/aa/2029-02-23/
END:VEVENT
BEGIN:VEVENT
DTSTART;TZID=America/New_York:20290225T083000
DTEND;TZID=America/New_York:20290225T083000
DTSTAMP:20260419T174417
CREATED:20250509T081848Z
LAST-MODIFIED:20250509T083300Z
UID:10003441-1866702600-1866702600@campchapel.org
SUMMARY:Traditional Services 8:30 & 11
DESCRIPTION:click here to see full-size movie flyer
URL:https://campchapel.org/event/traditiional-services-830-11-2-2/2029-02-25/
END:VEVENT
BEGIN:VEVENT
DTSTART;TZID=America/New_York:20290225T083000
DTEND;TZID=America/New_York:20290225T083000
DTSTAMP:20260419T174417
CREATED:20250509T083813Z
LAST-MODIFIED:20251211T222757Z
UID:10007301-1866702600-1866702600@campchapel.org
SUMMARY:Traditional Services 8:30 & 11
DESCRIPTION:click here to see full-size movie flyer
URL:https://campchapel.org/event/traditiional-services-830-11-2-2-2/2029-02-25/
END:VEVENT
BEGIN:VEVENT
DTSTART;TZID=America/New_York:20290225T093000
DTEND;TZID=America/New_York:20290225T093000
DTSTAMP:20260419T174417
CREATED:20240329T042203Z
LAST-MODIFIED:20251211T223004Z
UID:10003702-1866706200-1866706200@campchapel.org
SUMMARY:Contemporary Service & Sunday School
DESCRIPTION:click here to see full-size movie flyer
URL:https://campchapel.org/event/contemporary-service-sunday-school/2029-02-25/
END:VEVENT
BEGIN:VEVENT
DTSTART;TZID=America/New_York:20290225T180000
DTEND;TZID=America/New_York:20290225T180000
DTSTAMP:20260419T174417
CREATED:20240521T052200Z
LAST-MODIFIED:20250225T191516Z
UID:10006095-1866736800-1866736800@campchapel.org
SUMMARY:Serenity NA
DESCRIPTION:click here to see full-size movie flyer
URL:https://campchapel.org/event/serenity-na/2029-02-25/
END:VEVENT
BEGIN:VEVENT
DTSTART;TZID=America/New_York:20290226T190000
DTEND;TZID=America/New_York:20290226T190000
DTSTAMP:20260419T174417
CREATED:20230511T165805Z
LAST-MODIFIED:20250225T191716Z
UID:10006357-1866826800-1866826800@campchapel.org
SUMMARY:By the Grace of NA
DESCRIPTION:click here to see full-size movie flyer
URL:https://campchapel.org/event/by-the-grace-of-n-a/2029-02-26/
END:VEVENT
BEGIN:VEVENT
DTSTART;TZID=America/New_York:20290227T190000
DTEND;TZID=America/New_York:20290227T190000
DTSTAMP:20260419T174417
CREATED:20240521T054854Z
LAST-MODIFIED:20241210T180044Z
UID:10005210-1866913200-1866913200@campchapel.org
SUMMARY:Church Council (Zoom)
DESCRIPTION:click here to see full-size movie flyer
URL:https://campchapel.org/event/church-council-zoom/2029-02-27/
END:VEVENT
BEGIN:VEVENT
DTSTART;TZID=America/New_York:20290302T203000
DTEND;TZID=America/New_York:20290302T203000
DTSTAMP:20260419T174417
CREATED:20240521T052853Z
LAST-MODIFIED:20250313T193220Z
UID:10007038-1867177800-1867177800@campchapel.org
SUMMARY:AA
DESCRIPTION:click here to see full-size movie flyer
URL:https://campchapel.org/event/aa/2029-03-02/
END:VEVENT
BEGIN:VEVENT
DTSTART;TZID=America/New_York:20290304T083000
DTEND;TZID=America/New_York:20290304T083000
DTSTAMP:20260419T174417
CREATED:20250509T081848Z
LAST-MODIFIED:20250509T083300Z
UID:10003442-1867307400-1867307400@campchapel.org
SUMMARY:Traditional Services 8:30 & 11
DESCRIPTION:click here to see full-size movie flyer
URL:https://campchapel.org/event/traditiional-services-830-11-2-2/2029-03-04/
END:VEVENT
BEGIN:VEVENT
DTSTART;TZID=America/New_York:20290304T083000
DTEND;TZID=America/New_York:20290304T083000
DTSTAMP:20260419T174417
CREATED:20250509T083813Z
LAST-MODIFIED:20251211T222757Z
UID:10007302-1867307400-1867307400@campchapel.org
SUMMARY:Traditional Services 8:30 & 11
DESCRIPTION:click here to see full-size movie flyer
URL:https://campchapel.org/event/traditiional-services-830-11-2-2-2/2029-03-04/
END:VEVENT
BEGIN:VEVENT
DTSTART;TZID=America/New_York:20290304T093000
DTEND;TZID=America/New_York:20290304T093000
DTSTAMP:20260419T174417
CREATED:20240329T042203Z
LAST-MODIFIED:20251211T223004Z
UID:10003703-1867311000-1867311000@campchapel.org
SUMMARY:Contemporary Service & Sunday School
DESCRIPTION:click here to see full-size movie flyer
URL:https://campchapel.org/event/contemporary-service-sunday-school/2029-03-04/
END:VEVENT
BEGIN:VEVENT
DTSTART;TZID=America/New_York:20290304T180000
DTEND;TZID=America/New_York:20290304T180000
DTSTAMP:20260419T174417
CREATED:20240521T052200Z
LAST-MODIFIED:20250225T191516Z
UID:10006096-1867341600-1867341600@campchapel.org
SUMMARY:Serenity NA
DESCRIPTION:click here to see full-size movie flyer
URL:https://campchapel.org/event/serenity-na/2029-03-04/
END:VEVENT
BEGIN:VEVENT
DTSTART;TZID=America/New_York:20290305T190000
DTEND;TZID=America/New_York:20290305T190000
DTSTAMP:20260419T174417
CREATED:20230511T165805Z
LAST-MODIFIED:20250225T191716Z
UID:10006358-1867431600-1867431600@campchapel.org
SUMMARY:By the Grace of NA
DESCRIPTION:click here to see full-size movie flyer
URL:https://campchapel.org/event/by-the-grace-of-n-a/2029-03-05/
END:VEVENT
BEGIN:VEVENT
DTSTART;TZID=America/New_York:20290306T183000
DTEND;TZID=America/New_York:20290306T183000
DTSTAMP:20260419T174417
CREATED:20260115T164115Z
LAST-MODIFIED:20260115T164305Z
UID:10008033-1867516200-1867516200@campchapel.org
SUMMARY:Circle of Sisters
DESCRIPTION:click here to see full-size movie flyer
URL:https://campchapel.org/event/circle-of-sisters-4/2029-03-06/
END:VEVENT
BEGIN:VEVENT
DTSTART;TZID=America/New_York:20290306T190000
DTEND;TZID=America/New_York:20290306T190000
DTSTAMP:20260419T174417
CREATED:20240521T054526Z
LAST-MODIFIED:20240521T054526Z
UID:10005085-1867518000-1867518000@campchapel.org
SUMMARY:Trustees
DESCRIPTION:click here to see full-size movie flyer
URL:https://campchapel.org/event/trustees/2029-03-06/
END:VEVENT
BEGIN:VEVENT
DTSTART;TZID=America/New_York:20290307T110000
DTEND;TZID=America/New_York:20290307T110000
DTSTAMP:20260419T174417
CREATED:20240509T121953Z
LAST-MODIFIED:20241209T162844Z
UID:10003840-1867575600-1867575600@campchapel.org
SUMMARY:J.O.Y
DESCRIPTION:J.O.Y (Just Older Youth)\nJoin us and enjoy an afternoon of lunch\, games\, and fellowship with other Camp Chapel members. Bring a sandwich and a drink for lunch (dessert will be provided). Feel free to bring your favorite board game\, cards\, or dominos. We meet on the first Wednesday of each month. \n\n\n                    \n                        \n                        \n                    \n\n        \n                \n        \n    \n    \n        \n        \n                    \n                    \n\n        \n                        \n                                                click here to see full-size movie flyer
URL:https://campchapel.org/event/j-o-y/2029-03-07/
END:VEVENT
END:VCALENDAR