BEGIN:VCALENDAR
VERSION:2.0
PRODID:-//Camp Chapel United Methodist Church - ECPv6.15.20//NONSGML v1.0//EN
CALSCALE:GREGORIAN
METHOD:PUBLISH
X-ORIGINAL-URL:https://campchapel.org
X-WR-CALDESC:Events for Camp Chapel United Methodist Church
REFRESH-INTERVAL;VALUE=DURATION:PT1H
X-Robots-Tag:noindex
X-PUBLISHED-TTL:PT1H
BEGIN:VTIMEZONE
TZID:America/New_York
BEGIN:DAYLIGHT
TZOFFSETFROM:-0500
TZOFFSETTO:-0400
TZNAME:EDT
DTSTART:20280312T070000
END:DAYLIGHT
BEGIN:STANDARD
TZOFFSETFROM:-0400
TZOFFSETTO:-0500
TZNAME:EST
DTSTART:20281105T060000
END:STANDARD
BEGIN:DAYLIGHT
TZOFFSETFROM:-0500
TZOFFSETTO:-0400
TZNAME:EDT
DTSTART:20290311T070000
END:DAYLIGHT
BEGIN:STANDARD
TZOFFSETFROM:-0400
TZOFFSETTO:-0500
TZNAME:EST
DTSTART:20291104T060000
END:STANDARD
BEGIN:DAYLIGHT
TZOFFSETFROM:-0500
TZOFFSETTO:-0400
TZNAME:EDT
DTSTART:20300310T070000
END:DAYLIGHT
BEGIN:STANDARD
TZOFFSETFROM:-0400
TZOFFSETTO:-0500
TZNAME:EST
DTSTART:20301103T060000
END:STANDARD
END:VTIMEZONE
BEGIN:VEVENT
DTSTART;VALUE=DATE:20290325
DTEND;VALUE=DATE:20290326
DTSTAMP:20260419T130112
CREATED:20260402T172440Z
LAST-MODIFIED:20260402T172509Z
UID:10008200-1869091200-1869177599@campchapel.org
SUMMARY:Maryland Day
DESCRIPTION:click here to see full-size movie flyer
URL:https://campchapel.org/event/maryland-day-2/2029-03-25/
ATTACH;FMTTYPE=image/jpeg:https://campchapel.org/wp-content/uploads/2022/03/Maryland-printable-flag-e1646189443525.jpg
END:VEVENT
BEGIN:VEVENT
DTSTART;TZID=America/New_York:20290325T083000
DTEND;TZID=America/New_York:20290325T083000
DTSTAMP:20260419T130112
CREATED:20250509T081848Z
LAST-MODIFIED:20250509T083300Z
UID:10003445-1869121800-1869121800@campchapel.org
SUMMARY:Traditional Services 8:30 & 11
DESCRIPTION:click here to see full-size movie flyer
URL:https://campchapel.org/event/traditiional-services-830-11-2-2/2029-03-25/
END:VEVENT
BEGIN:VEVENT
DTSTART;TZID=America/New_York:20290325T083000
DTEND;TZID=America/New_York:20290325T083000
DTSTAMP:20260419T130112
CREATED:20250509T083813Z
LAST-MODIFIED:20251211T222757Z
UID:10007305-1869121800-1869121800@campchapel.org
SUMMARY:Traditional Services 8:30 & 11
DESCRIPTION:click here to see full-size movie flyer
URL:https://campchapel.org/event/traditiional-services-830-11-2-2-2/2029-03-25/
END:VEVENT
BEGIN:VEVENT
DTSTART;TZID=America/New_York:20290325T093000
DTEND;TZID=America/New_York:20290325T093000
DTSTAMP:20260419T130112
CREATED:20240329T042203Z
LAST-MODIFIED:20251211T223004Z
UID:10003706-1869125400-1869125400@campchapel.org
SUMMARY:Contemporary Service & Sunday School
DESCRIPTION:click here to see full-size movie flyer
URL:https://campchapel.org/event/contemporary-service-sunday-school/2029-03-25/
END:VEVENT
BEGIN:VEVENT
DTSTART;TZID=America/New_York:20290325T180000
DTEND;TZID=America/New_York:20290325T180000
DTSTAMP:20260419T130112
CREATED:20240521T052200Z
LAST-MODIFIED:20250225T191516Z
UID:10006099-1869156000-1869156000@campchapel.org
SUMMARY:Serenity NA
DESCRIPTION:click here to see full-size movie flyer
URL:https://campchapel.org/event/serenity-na/2029-03-25/
END:VEVENT
BEGIN:VEVENT
DTSTART;TZID=America/New_York:20290326T190000
DTEND;TZID=America/New_York:20290326T190000
DTSTAMP:20260419T130112
CREATED:20230511T165805Z
LAST-MODIFIED:20250225T191716Z
UID:10006361-1869246000-1869246000@campchapel.org
SUMMARY:By the Grace of NA
DESCRIPTION:click here to see full-size movie flyer
URL:https://campchapel.org/event/by-the-grace-of-n-a/2029-03-26/
END:VEVENT
BEGIN:VEVENT
DTSTART;TZID=America/New_York:20290327T190000
DTEND;TZID=America/New_York:20290327T190000
DTSTAMP:20260419T130112
CREATED:20240521T054854Z
LAST-MODIFIED:20241210T180044Z
UID:10005211-1869332400-1869332400@campchapel.org
SUMMARY:Church Council (Zoom)
DESCRIPTION:click here to see full-size movie flyer
URL:https://campchapel.org/event/church-council-zoom/2029-03-27/
END:VEVENT
BEGIN:VEVENT
DTSTART;TZID=America/New_York:20290330T203000
DTEND;TZID=America/New_York:20290330T203000
DTSTAMP:20260419T130112
CREATED:20240521T052853Z
LAST-MODIFIED:20250313T193220Z
UID:10007042-1869597000-1869597000@campchapel.org
SUMMARY:AA
DESCRIPTION:click here to see full-size movie flyer
URL:https://campchapel.org/event/aa/2029-03-30/
END:VEVENT
BEGIN:VEVENT
DTSTART;VALUE=DATE:20290401
DTEND;VALUE=DATE:20290402
DTSTAMP:20260419T130112
CREATED:20250213T005901Z
LAST-MODIFIED:20260306T071544Z
UID:10008173-1869696000-1869782399@campchapel.org
SUMMARY:April Fools Day
DESCRIPTION:click here to see full-size movie flyer
URL:https://campchapel.org/event/april-fools-day/2029-04-01/
ATTACH;FMTTYPE=image/jpeg:https://campchapel.org/wp-content/uploads/2024/01/April-Fools-e1704499624484.jpg
END:VEVENT
BEGIN:VEVENT
DTSTART;TZID=America/New_York:20290401T083000
DTEND;TZID=America/New_York:20290401T083000
DTSTAMP:20260419T130112
CREATED:20250509T081848Z
LAST-MODIFIED:20250509T083300Z
UID:10005748-1869726600-1869726600@campchapel.org
SUMMARY:Traditional Services 8:30 & 11
DESCRIPTION:click here to see full-size movie flyer
URL:https://campchapel.org/event/traditiional-services-830-11-2-2/2029-04-01/
END:VEVENT
BEGIN:VEVENT
DTSTART;TZID=America/New_York:20290401T083000
DTEND;TZID=America/New_York:20290401T083000
DTSTAMP:20260419T130112
CREATED:20250509T083813Z
LAST-MODIFIED:20251211T222757Z
UID:10007306-1869726600-1869726600@campchapel.org
SUMMARY:Traditional Services 8:30 & 11
DESCRIPTION:click here to see full-size movie flyer
URL:https://campchapel.org/event/traditiional-services-830-11-2-2-2/2029-04-01/
END:VEVENT
BEGIN:VEVENT
DTSTART;TZID=America/New_York:20290401T093000
DTEND;TZID=America/New_York:20290401T093000
DTSTAMP:20260419T130112
CREATED:20240329T042203Z
LAST-MODIFIED:20251211T223004Z
UID:10005786-1869730200-1869730200@campchapel.org
SUMMARY:Contemporary Service & Sunday School
DESCRIPTION:click here to see full-size movie flyer
URL:https://campchapel.org/event/contemporary-service-sunday-school/2029-04-01/
END:VEVENT
BEGIN:VEVENT
DTSTART;TZID=America/New_York:20290401T180000
DTEND;TZID=America/New_York:20290401T180000
DTSTAMP:20260419T130112
CREATED:20240521T052200Z
LAST-MODIFIED:20250225T191516Z
UID:10006100-1869760800-1869760800@campchapel.org
SUMMARY:Serenity NA
DESCRIPTION:click here to see full-size movie flyer
URL:https://campchapel.org/event/serenity-na/2029-04-01/
END:VEVENT
BEGIN:VEVENT
DTSTART;TZID=America/New_York:20290402T190000
DTEND;TZID=America/New_York:20290402T190000
DTSTAMP:20260419T130112
CREATED:20230511T165805Z
LAST-MODIFIED:20250225T191716Z
UID:10006362-1869850800-1869850800@campchapel.org
SUMMARY:By the Grace of NA
DESCRIPTION:click here to see full-size movie flyer
URL:https://campchapel.org/event/by-the-grace-of-n-a/2029-04-02/
END:VEVENT
BEGIN:VEVENT
DTSTART;TZID=America/New_York:20290403T183000
DTEND;TZID=America/New_York:20290403T183000
DTSTAMP:20260419T130112
CREATED:20260115T164115Z
LAST-MODIFIED:20260115T164305Z
UID:10008034-1869935400-1869935400@campchapel.org
SUMMARY:Circle of Sisters
DESCRIPTION:click here to see full-size movie flyer
URL:https://campchapel.org/event/circle-of-sisters-4/2029-04-03/
END:VEVENT
BEGIN:VEVENT
DTSTART;TZID=America/New_York:20290403T190000
DTEND;TZID=America/New_York:20290403T190000
DTSTAMP:20260419T130112
CREATED:20240521T054526Z
LAST-MODIFIED:20240521T054526Z
UID:10005086-1869937200-1869937200@campchapel.org
SUMMARY:Trustees
DESCRIPTION:click here to see full-size movie flyer
URL:https://campchapel.org/event/trustees/2029-04-03/
END:VEVENT
BEGIN:VEVENT
DTSTART;TZID=America/New_York:20290404T110000
DTEND;TZID=America/New_York:20290404T110000
DTSTAMP:20260419T130112
CREATED:20240509T121953Z
LAST-MODIFIED:20241209T162844Z
UID:10003841-1869994800-1869994800@campchapel.org
SUMMARY:J.O.Y
DESCRIPTION:J.O.Y (Just Older Youth)\nJoin us and enjoy an afternoon of lunch\, games\, and fellowship with other Camp Chapel members. Bring a sandwich and a drink for lunch (dessert will be provided). Feel free to bring your favorite board game\, cards\, or dominos. We meet on the first Wednesday of each month. \n\n\n                    \n                        \n                        \n                    \n\n        \n                \n        \n    \n    \n        \n        \n                    \n                    \n\n        \n                        \n                                                click here to see full-size movie flyer
URL:https://campchapel.org/event/j-o-y/2029-04-04/
END:VEVENT
BEGIN:VEVENT
DTSTART;TZID=America/New_York:20290404T190000
DTEND;TZID=America/New_York:20290404T190000
DTSTAMP:20260419T130112
CREATED:20240521T053857Z
LAST-MODIFIED:20241209T163028Z
UID:10004829-1870023600-1870023600@campchapel.org
SUMMARY:Band of Brothers
DESCRIPTION:click here to see full-size movie flyer
URL:https://campchapel.org/event/band-of-brothers/2029-04-04/
END:VEVENT
BEGIN:VEVENT
DTSTART;TZID=America/New_York:20290406T203000
DTEND;TZID=America/New_York:20290406T203000
DTSTAMP:20260419T130112
CREATED:20240521T052853Z
LAST-MODIFIED:20250313T193220Z
UID:10007043-1870201800-1870201800@campchapel.org
SUMMARY:AA
DESCRIPTION:click here to see full-size movie flyer
URL:https://campchapel.org/event/aa/2029-04-06/
END:VEVENT
BEGIN:VEVENT
DTSTART;TZID=America/New_York:20290408T083000
DTEND;TZID=America/New_York:20290408T083000
DTSTAMP:20260419T130112
CREATED:20250509T081848Z
LAST-MODIFIED:20250509T083300Z
UID:10005749-1870331400-1870331400@campchapel.org
SUMMARY:Traditional Services 8:30 & 11
DESCRIPTION:click here to see full-size movie flyer
URL:https://campchapel.org/event/traditiional-services-830-11-2-2/2029-04-08/
END:VEVENT
BEGIN:VEVENT
DTSTART;TZID=America/New_York:20290408T083000
DTEND;TZID=America/New_York:20290408T083000
DTSTAMP:20260419T130112
CREATED:20250509T083813Z
LAST-MODIFIED:20251211T222757Z
UID:10007307-1870331400-1870331400@campchapel.org
SUMMARY:Traditional Services 8:30 & 11
DESCRIPTION:click here to see full-size movie flyer
URL:https://campchapel.org/event/traditiional-services-830-11-2-2-2/2029-04-08/
END:VEVENT
BEGIN:VEVENT
DTSTART;TZID=America/New_York:20290408T093000
DTEND;TZID=America/New_York:20290408T093000
DTSTAMP:20260419T130112
CREATED:20240329T042203Z
LAST-MODIFIED:20251211T223004Z
UID:10005787-1870335000-1870335000@campchapel.org
SUMMARY:Contemporary Service & Sunday School
DESCRIPTION:click here to see full-size movie flyer
URL:https://campchapel.org/event/contemporary-service-sunday-school/2029-04-08/
END:VEVENT
BEGIN:VEVENT
DTSTART;TZID=America/New_York:20290408T180000
DTEND;TZID=America/New_York:20290408T180000
DTSTAMP:20260419T130112
CREATED:20240521T052200Z
LAST-MODIFIED:20250225T191516Z
UID:10006101-1870365600-1870365600@campchapel.org
SUMMARY:Serenity NA
DESCRIPTION:click here to see full-size movie flyer
URL:https://campchapel.org/event/serenity-na/2029-04-08/
END:VEVENT
BEGIN:VEVENT
DTSTART;TZID=America/New_York:20290409T190000
DTEND;TZID=America/New_York:20290409T190000
DTSTAMP:20260419T130112
CREATED:20230511T165805Z
LAST-MODIFIED:20250225T191716Z
UID:10006363-1870455600-1870455600@campchapel.org
SUMMARY:By the Grace of NA
DESCRIPTION:click here to see full-size movie flyer
URL:https://campchapel.org/event/by-the-grace-of-n-a/2029-04-09/
END:VEVENT
BEGIN:VEVENT
DTSTART;TZID=America/New_York:20290410T190000
DTEND;TZID=America/New_York:20290410T190000
DTSTAMP:20260419T130112
CREATED:20240521T054704Z
LAST-MODIFIED:20241003T170322Z
UID:10005149-1870542000-1870542000@campchapel.org
SUMMARY:Finance (Zoom)
DESCRIPTION:click here to see full-size movie flyer
URL:https://campchapel.org/event/finance-zoom/2029-04-10/
END:VEVENT
BEGIN:VEVENT
DTSTART;TZID=America/New_York:20290413T203000
DTEND;TZID=America/New_York:20290413T203000
DTSTAMP:20260419T130112
CREATED:20240521T052853Z
LAST-MODIFIED:20250313T193220Z
UID:10007044-1870806600-1870806600@campchapel.org
SUMMARY:AA
DESCRIPTION:click here to see full-size movie flyer
URL:https://campchapel.org/event/aa/2029-04-13/
END:VEVENT
BEGIN:VEVENT
DTSTART;TZID=America/New_York:20290415T083000
DTEND;TZID=America/New_York:20290415T083000
DTSTAMP:20260419T130112
CREATED:20250509T081848Z
LAST-MODIFIED:20250509T083300Z
UID:10005750-1870936200-1870936200@campchapel.org
SUMMARY:Traditional Services 8:30 & 11
DESCRIPTION:click here to see full-size movie flyer
URL:https://campchapel.org/event/traditiional-services-830-11-2-2/2029-04-15/
END:VEVENT
BEGIN:VEVENT
DTSTART;TZID=America/New_York:20290415T083000
DTEND;TZID=America/New_York:20290415T083000
DTSTAMP:20260419T130112
CREATED:20250509T083813Z
LAST-MODIFIED:20251211T222757Z
UID:10007308-1870936200-1870936200@campchapel.org
SUMMARY:Traditional Services 8:30 & 11
DESCRIPTION:click here to see full-size movie flyer
URL:https://campchapel.org/event/traditiional-services-830-11-2-2-2/2029-04-15/
END:VEVENT
BEGIN:VEVENT
DTSTART;TZID=America/New_York:20290415T093000
DTEND;TZID=America/New_York:20290415T093000
DTSTAMP:20260419T130112
CREATED:20240329T042203Z
LAST-MODIFIED:20251211T223004Z
UID:10005788-1870939800-1870939800@campchapel.org
SUMMARY:Contemporary Service & Sunday School
DESCRIPTION:click here to see full-size movie flyer
URL:https://campchapel.org/event/contemporary-service-sunday-school/2029-04-15/
END:VEVENT
BEGIN:VEVENT
DTSTART;TZID=America/New_York:20290415T180000
DTEND;TZID=America/New_York:20290415T180000
DTSTAMP:20260419T130112
CREATED:20240521T052200Z
LAST-MODIFIED:20250225T191516Z
UID:10006102-1870970400-1870970400@campchapel.org
SUMMARY:Serenity NA
DESCRIPTION:click here to see full-size movie flyer
URL:https://campchapel.org/event/serenity-na/2029-04-15/
END:VEVENT
END:VCALENDAR