BEGIN:VCALENDAR
VERSION:2.0
PRODID:-//Camp Chapel United Methodist Church - ECPv6.15.20//NONSGML v1.0//EN
CALSCALE:GREGORIAN
METHOD:PUBLISH
X-WR-CALNAME:Camp Chapel United Methodist Church
X-ORIGINAL-URL:https://campchapel.org
X-WR-CALDESC:Events for Camp Chapel United Methodist Church
REFRESH-INTERVAL;VALUE=DURATION:PT1H
X-Robots-Tag:noindex
X-PUBLISHED-TTL:PT1H
BEGIN:VTIMEZONE
TZID:America/New_York
BEGIN:DAYLIGHT
TZOFFSETFROM:-0500
TZOFFSETTO:-0400
TZNAME:EDT
DTSTART:20270314T070000
END:DAYLIGHT
BEGIN:STANDARD
TZOFFSETFROM:-0400
TZOFFSETTO:-0500
TZNAME:EST
DTSTART:20271107T060000
END:STANDARD
BEGIN:DAYLIGHT
TZOFFSETFROM:-0500
TZOFFSETTO:-0400
TZNAME:EDT
DTSTART:20280312T070000
END:DAYLIGHT
BEGIN:STANDARD
TZOFFSETFROM:-0400
TZOFFSETTO:-0500
TZNAME:EST
DTSTART:20281105T060000
END:STANDARD
BEGIN:DAYLIGHT
TZOFFSETFROM:-0500
TZOFFSETTO:-0400
TZNAME:EDT
DTSTART:20290311T070000
END:DAYLIGHT
BEGIN:STANDARD
TZOFFSETFROM:-0400
TZOFFSETTO:-0500
TZNAME:EST
DTSTART:20291104T060000
END:STANDARD
END:VTIMEZONE
BEGIN:VEVENT
DTSTART;TZID=America/New_York:20280213T180000
DTEND;TZID=America/New_York:20280213T180000
DTSTAMP:20260421T124533
CREATED:20240521T052200Z
LAST-MODIFIED:20250225T191516Z
UID:10006041-1834077600-1834077600@campchapel.org
SUMMARY:Serenity NA
DESCRIPTION:click here to see the full movie poster
URL:https://campchapel.org/event/serenity-na/2028-02-13/
END:VEVENT
BEGIN:VEVENT
DTSTART;TZID=America/New_York:20280213T093000
DTEND;TZID=America/New_York:20280213T093000
DTSTAMP:20260421T124533
CREATED:20240329T042203Z
LAST-MODIFIED:20251211T223004Z
UID:10003648-1834047000-1834047000@campchapel.org
SUMMARY:Contemporary Service & Sunday School
DESCRIPTION:click here to see the full movie poster
URL:https://campchapel.org/event/contemporary-service-sunday-school/2028-02-13/
END:VEVENT
BEGIN:VEVENT
DTSTART;TZID=America/New_York:20280213T083000
DTEND;TZID=America/New_York:20280213T083000
DTSTAMP:20260421T124533
CREATED:20250509T083813Z
LAST-MODIFIED:20251211T222757Z
UID:10007247-1834043400-1834043400@campchapel.org
SUMMARY:Traditional Services 8:30 & 11
DESCRIPTION:click here to see the full movie poster
URL:https://campchapel.org/event/traditiional-services-830-11-2-2-2/2028-02-13/
END:VEVENT
BEGIN:VEVENT
DTSTART;TZID=America/New_York:20280213T083000
DTEND;TZID=America/New_York:20280213T083000
DTSTAMP:20260421T124533
CREATED:20250509T081848Z
LAST-MODIFIED:20250509T083300Z
UID:10003387-1834043400-1834043400@campchapel.org
SUMMARY:Traditional Services 8:30 & 11
DESCRIPTION:click here to see the full movie poster
URL:https://campchapel.org/event/traditiional-services-830-11-2-2/2028-02-13/
END:VEVENT
BEGIN:VEVENT
DTSTART;TZID=America/New_York:20280211T203000
DTEND;TZID=America/New_York:20280211T203000
DTSTAMP:20260421T124533
CREATED:20240521T052853Z
LAST-MODIFIED:20250313T193220Z
UID:10006983-1833913800-1833913800@campchapel.org
SUMMARY:AA
DESCRIPTION:click here to see the full movie poster
URL:https://campchapel.org/event/aa/2028-02-11/
END:VEVENT
BEGIN:VEVENT
DTSTART;TZID=America/New_York:20280208T190000
DTEND;TZID=America/New_York:20280208T190000
DTSTAMP:20260421T124533
CREATED:20240521T054704Z
LAST-MODIFIED:20241003T170322Z
UID:10005135-1833649200-1833649200@campchapel.org
SUMMARY:Finance (Zoom)
DESCRIPTION:click here to see the full movie poster
URL:https://campchapel.org/event/finance-zoom/2028-02-08/
END:VEVENT
BEGIN:VEVENT
DTSTART;TZID=America/New_York:20280207T190000
DTEND;TZID=America/New_York:20280207T190000
DTSTAMP:20260421T124533
CREATED:20230511T165805Z
LAST-MODIFIED:20250225T191716Z
UID:10006302-1833562800-1833562800@campchapel.org
SUMMARY:By the Grace of NA
DESCRIPTION:click here to see the full movie poster
URL:https://campchapel.org/event/by-the-grace-of-n-a/2028-02-07/
END:VEVENT
BEGIN:VEVENT
DTSTART;TZID=America/New_York:20280206T180000
DTEND;TZID=America/New_York:20280206T180000
DTSTAMP:20260421T124533
CREATED:20240521T052200Z
LAST-MODIFIED:20250225T191516Z
UID:10006040-1833472800-1833472800@campchapel.org
SUMMARY:Serenity NA
DESCRIPTION:click here to see the full movie poster
URL:https://campchapel.org/event/serenity-na/2028-02-06/
END:VEVENT
BEGIN:VEVENT
DTSTART;TZID=America/New_York:20280206T093000
DTEND;TZID=America/New_York:20280206T093000
DTSTAMP:20260421T124533
CREATED:20240329T042203Z
LAST-MODIFIED:20251211T223004Z
UID:10003647-1833442200-1833442200@campchapel.org
SUMMARY:Contemporary Service & Sunday School
DESCRIPTION:click here to see the full movie poster
URL:https://campchapel.org/event/contemporary-service-sunday-school/2028-02-06/
END:VEVENT
BEGIN:VEVENT
DTSTART;TZID=America/New_York:20280206T083000
DTEND;TZID=America/New_York:20280206T083000
DTSTAMP:20260421T124533
CREATED:20250509T083813Z
LAST-MODIFIED:20251211T222757Z
UID:10007246-1833438600-1833438600@campchapel.org
SUMMARY:Traditional Services 8:30 & 11
DESCRIPTION:click here to see the full movie poster
URL:https://campchapel.org/event/traditiional-services-830-11-2-2-2/2028-02-06/
END:VEVENT
BEGIN:VEVENT
DTSTART;TZID=America/New_York:20280206T083000
DTEND;TZID=America/New_York:20280206T083000
DTSTAMP:20260421T124533
CREATED:20250509T081848Z
LAST-MODIFIED:20250509T083300Z
UID:10003386-1833438600-1833438600@campchapel.org
SUMMARY:Traditional Services 8:30 & 11
DESCRIPTION:click here to see the full movie poster
URL:https://campchapel.org/event/traditiional-services-830-11-2-2/2028-02-06/
END:VEVENT
BEGIN:VEVENT
DTSTART;TZID=America/New_York:20280204T203000
DTEND;TZID=America/New_York:20280204T203000
DTSTAMP:20260421T124533
CREATED:20240521T052853Z
LAST-MODIFIED:20250313T193220Z
UID:10006982-1833309000-1833309000@campchapel.org
SUMMARY:AA
DESCRIPTION:click here to see the full movie poster
URL:https://campchapel.org/event/aa/2028-02-04/
END:VEVENT
BEGIN:VEVENT
DTSTART;TZID=America/New_York:20280202T190000
DTEND;TZID=America/New_York:20280202T190000
DTSTAMP:20260421T124533
CREATED:20240521T053857Z
LAST-MODIFIED:20241209T163028Z
UID:10004815-1833130800-1833130800@campchapel.org
SUMMARY:Band of Brothers
DESCRIPTION:click here to see the full movie poster
URL:https://campchapel.org/event/band-of-brothers/2028-02-02/
END:VEVENT
BEGIN:VEVENT
DTSTART;TZID=America/New_York:20280202T110000
DTEND;TZID=America/New_York:20280202T110000
DTSTAMP:20260421T124533
CREATED:20240509T121953Z
LAST-MODIFIED:20241209T162844Z
UID:10003827-1833102000-1833102000@campchapel.org
SUMMARY:J.O.Y
DESCRIPTION:J.O.Y (Just Older Youth)\nJoin us and enjoy an afternoon of lunch\, games\, and fellowship with other Camp Chapel members. Bring a sandwich and a drink for lunch (dessert will be provided). Feel free to bring your favorite board game\, cards\, or dominos. We meet on the first Wednesday of each month. \n\n\n                    \n                        \n                        \n                    \n\n        \n                \n        \n    \n    \n        \n        \n                    \n                    \n\n        \n                        \n                                                click here to see the full movie poster
URL:https://campchapel.org/event/j-o-y/2028-02-02/
END:VEVENT
BEGIN:VEVENT
DTSTART;TZID=America/New_York:20280201T190000
DTEND;TZID=America/New_York:20280201T190000
DTSTAMP:20260421T124533
CREATED:20240521T054526Z
LAST-MODIFIED:20240521T054526Z
UID:10005072-1833044400-1833044400@campchapel.org
SUMMARY:Trustees
DESCRIPTION:click here to see the full movie poster
URL:https://campchapel.org/event/trustees/2028-02-01/
END:VEVENT
BEGIN:VEVENT
DTSTART;TZID=America/New_York:20280201T183000
DTEND;TZID=America/New_York:20280201T183000
DTSTAMP:20260421T124533
CREATED:20260115T164115Z
LAST-MODIFIED:20260115T164305Z
UID:10008020-1833042600-1833042600@campchapel.org
SUMMARY:Circle of Sisters
DESCRIPTION:click here to see the full movie poster
URL:https://campchapel.org/event/circle-of-sisters-4/2028-02-01/
END:VEVENT
BEGIN:VEVENT
DTSTART;VALUE=DATE:20280201
DTEND;VALUE=DATE:20280202
DTSTAMP:20260421T124533
CREATED:20250213T003223Z
LAST-MODIFIED:20260111T174618Z
UID:10007854-1832976000-1833062399@campchapel.org
SUMMARY:Black History Month Begins
DESCRIPTION:click here to see the full movie poster
URL:https://campchapel.org/event/black-history-month-begins/2028-02-01/
ATTACH;FMTTYPE=image/jpeg:https://campchapel.org/wp-content/uploads/2024/01/Black-History-Month-e1706644851359.jpg
END:VEVENT
BEGIN:VEVENT
DTSTART;TZID=America/New_York:20280131T190000
DTEND;TZID=America/New_York:20280131T190000
DTSTAMP:20260421T124533
CREATED:20230511T165805Z
LAST-MODIFIED:20250225T191716Z
UID:10006301-1832958000-1832958000@campchapel.org
SUMMARY:By the Grace of NA
DESCRIPTION:click here to see the full movie poster
URL:https://campchapel.org/event/by-the-grace-of-n-a/2028-01-31/
END:VEVENT
BEGIN:VEVENT
DTSTART;TZID=America/New_York:20280130T180000
DTEND;TZID=America/New_York:20280130T180000
DTSTAMP:20260421T124533
CREATED:20240521T052200Z
LAST-MODIFIED:20250225T191516Z
UID:10006039-1832868000-1832868000@campchapel.org
SUMMARY:Serenity NA
DESCRIPTION:click here to see the full movie poster
URL:https://campchapel.org/event/serenity-na/2028-01-30/
END:VEVENT
BEGIN:VEVENT
DTSTART;TZID=America/New_York:20280130T093000
DTEND;TZID=America/New_York:20280130T093000
DTSTAMP:20260421T124533
CREATED:20240329T042203Z
LAST-MODIFIED:20251211T223004Z
UID:10003646-1832837400-1832837400@campchapel.org
SUMMARY:Contemporary Service & Sunday School
DESCRIPTION:click here to see the full movie poster
URL:https://campchapel.org/event/contemporary-service-sunday-school/2028-01-30/
END:VEVENT
BEGIN:VEVENT
DTSTART;TZID=America/New_York:20280130T083000
DTEND;TZID=America/New_York:20280130T083000
DTSTAMP:20260421T124533
CREATED:20250509T083813Z
LAST-MODIFIED:20251211T222757Z
UID:10007245-1832833800-1832833800@campchapel.org
SUMMARY:Traditional Services 8:30 & 11
DESCRIPTION:click here to see the full movie poster
URL:https://campchapel.org/event/traditiional-services-830-11-2-2-2/2028-01-30/
END:VEVENT
BEGIN:VEVENT
DTSTART;TZID=America/New_York:20280130T083000
DTEND;TZID=America/New_York:20280130T083000
DTSTAMP:20260421T124533
CREATED:20250509T081848Z
LAST-MODIFIED:20250509T083300Z
UID:10003385-1832833800-1832833800@campchapel.org
SUMMARY:Traditional Services 8:30 & 11
DESCRIPTION:click here to see the full movie poster
URL:https://campchapel.org/event/traditiional-services-830-11-2-2/2028-01-30/
END:VEVENT
BEGIN:VEVENT
DTSTART;TZID=America/New_York:20280128T203000
DTEND;TZID=America/New_York:20280128T203000
DTSTAMP:20260421T124533
CREATED:20240521T052853Z
LAST-MODIFIED:20250313T193220Z
UID:10006981-1832704200-1832704200@campchapel.org
SUMMARY:AA
DESCRIPTION:click here to see the full movie poster
URL:https://campchapel.org/event/aa/2028-01-28/
END:VEVENT
BEGIN:VEVENT
DTSTART;VALUE=DATE:20280127
DTEND;VALUE=DATE:20280128
DTSTAMP:20260421T124533
CREATED:20250107T100903Z
LAST-MODIFIED:20260111T174513Z
UID:10007849-1832544000-1832630399@campchapel.org
SUMMARY:International Holocaust Remembrance Day
DESCRIPTION:click here to see the full movie poster
URL:https://campchapel.org/event/international-holocaust-remembrance-day/2028-01-27/
ATTACH;FMTTYPE=image/jpeg:https://campchapel.org/wp-content/uploads/2022/03/International-Holocaust-Remembrance-2-scaled-e1646643456599.jpg
END:VEVENT
BEGIN:VEVENT
DTSTART;TZID=America/New_York:20280125T190000
DTEND;TZID=America/New_York:20280125T190000
DTSTAMP:20260421T124533
CREATED:20240521T054854Z
LAST-MODIFIED:20241210T180044Z
UID:10005197-1832439600-1832439600@campchapel.org
SUMMARY:Church Council (Zoom)
DESCRIPTION:click here to see the full movie poster
URL:https://campchapel.org/event/church-council-zoom/2028-01-25/
END:VEVENT
BEGIN:VEVENT
DTSTART;TZID=America/New_York:20280124T190000
DTEND;TZID=America/New_York:20280124T190000
DTSTAMP:20260421T124533
CREATED:20230511T165805Z
LAST-MODIFIED:20250225T191716Z
UID:10006300-1832353200-1832353200@campchapel.org
SUMMARY:By the Grace of NA
DESCRIPTION:click here to see the full movie poster
URL:https://campchapel.org/event/by-the-grace-of-n-a/2028-01-24/
END:VEVENT
BEGIN:VEVENT
DTSTART;TZID=America/New_York:20280123T180000
DTEND;TZID=America/New_York:20280123T180000
DTSTAMP:20260421T124533
CREATED:20240521T052200Z
LAST-MODIFIED:20250225T191516Z
UID:10006038-1832263200-1832263200@campchapel.org
SUMMARY:Serenity NA
DESCRIPTION:click here to see the full movie poster
URL:https://campchapel.org/event/serenity-na/2028-01-23/
END:VEVENT
BEGIN:VEVENT
DTSTART;TZID=America/New_York:20280123T093000
DTEND;TZID=America/New_York:20280123T093000
DTSTAMP:20260421T124533
CREATED:20240329T042203Z
LAST-MODIFIED:20251211T223004Z
UID:10003645-1832232600-1832232600@campchapel.org
SUMMARY:Contemporary Service & Sunday School
DESCRIPTION:click here to see the full movie poster
URL:https://campchapel.org/event/contemporary-service-sunday-school/2028-01-23/
END:VEVENT
BEGIN:VEVENT
DTSTART;TZID=America/New_York:20280123T083000
DTEND;TZID=America/New_York:20280123T083000
DTSTAMP:20260421T124533
CREATED:20250509T083813Z
LAST-MODIFIED:20251211T222757Z
UID:10007244-1832229000-1832229000@campchapel.org
SUMMARY:Traditional Services 8:30 & 11
DESCRIPTION:click here to see the full movie poster
URL:https://campchapel.org/event/traditiional-services-830-11-2-2-2/2028-01-23/
END:VEVENT
BEGIN:VEVENT
DTSTART;TZID=America/New_York:20280123T083000
DTEND;TZID=America/New_York:20280123T083000
DTSTAMP:20260421T124533
CREATED:20250509T081848Z
LAST-MODIFIED:20250509T083300Z
UID:10003384-1832229000-1832229000@campchapel.org
SUMMARY:Traditional Services 8:30 & 11
DESCRIPTION:click here to see the full movie poster
URL:https://campchapel.org/event/traditiional-services-830-11-2-2/2028-01-23/
END:VEVENT
END:VCALENDAR