BEGIN:VCALENDAR
VERSION:2.0
PRODID:-//Camp Chapel United Methodist Church - ECPv6.15.20//NONSGML v1.0//EN
CALSCALE:GREGORIAN
METHOD:PUBLISH
X-WR-CALNAME:Camp Chapel United Methodist Church
X-ORIGINAL-URL:https://campchapel.org
X-WR-CALDESC:Events for Camp Chapel United Methodist Church
REFRESH-INTERVAL;VALUE=DURATION:PT1H
X-Robots-Tag:noindex
X-PUBLISHED-TTL:PT1H
BEGIN:VTIMEZONE
TZID:America/New_York
BEGIN:DAYLIGHT
TZOFFSETFROM:-0500
TZOFFSETTO:-0400
TZNAME:EDT
DTSTART:20270314T070000
END:DAYLIGHT
BEGIN:STANDARD
TZOFFSETFROM:-0400
TZOFFSETTO:-0500
TZNAME:EST
DTSTART:20271107T060000
END:STANDARD
BEGIN:DAYLIGHT
TZOFFSETFROM:-0500
TZOFFSETTO:-0400
TZNAME:EDT
DTSTART:20280312T070000
END:DAYLIGHT
BEGIN:STANDARD
TZOFFSETFROM:-0400
TZOFFSETTO:-0500
TZNAME:EST
DTSTART:20281105T060000
END:STANDARD
BEGIN:DAYLIGHT
TZOFFSETFROM:-0500
TZOFFSETTO:-0400
TZNAME:EDT
DTSTART:20290311T070000
END:DAYLIGHT
BEGIN:STANDARD
TZOFFSETFROM:-0400
TZOFFSETTO:-0500
TZNAME:EST
DTSTART:20291104T060000
END:STANDARD
END:VTIMEZONE
BEGIN:VEVENT
DTSTART;TZID=America/New_York:20280619T190000
DTEND;TZID=America/New_York:20280619T190000
DTSTAMP:20260421T191749
CREATED:20230511T165805Z
LAST-MODIFIED:20250225T191716Z
UID:10006321-1845054000-1845054000@campchapel.org
SUMMARY:By the Grace of NA
DESCRIPTION:click here to see the full-size poster
URL:https://campchapel.org/event/by-the-grace-of-n-a/2028-06-19/
END:VEVENT
BEGIN:VEVENT
DTSTART;TZID=America/New_York:20280618T180000
DTEND;TZID=America/New_York:20280618T180000
DTSTAMP:20260421T191749
CREATED:20240521T052200Z
LAST-MODIFIED:20250225T191516Z
UID:10006059-1844964000-1844964000@campchapel.org
SUMMARY:Serenity NA
DESCRIPTION:click here to see the full-size poster
URL:https://campchapel.org/event/serenity-na/2028-06-18/
END:VEVENT
BEGIN:VEVENT
DTSTART;TZID=America/New_York:20280618T093000
DTEND;TZID=America/New_York:20280618T093000
DTSTAMP:20260421T191749
CREATED:20240329T042203Z
LAST-MODIFIED:20251211T223004Z
UID:10003666-1844933400-1844933400@campchapel.org
SUMMARY:Contemporary Service & Sunday School
DESCRIPTION:click here to see the full-size poster
URL:https://campchapel.org/event/contemporary-service-sunday-school/2028-06-18/
END:VEVENT
BEGIN:VEVENT
DTSTART;TZID=America/New_York:20280618T083000
DTEND;TZID=America/New_York:20280618T083000
DTSTAMP:20260421T191749
CREATED:20250509T083813Z
LAST-MODIFIED:20251211T222757Z
UID:10007265-1844929800-1844929800@campchapel.org
SUMMARY:Traditional Services 8:30 & 11
DESCRIPTION:click here to see the full-size poster
URL:https://campchapel.org/event/traditiional-services-830-11-2-2-2/2028-06-18/
END:VEVENT
BEGIN:VEVENT
DTSTART;TZID=America/New_York:20280618T083000
DTEND;TZID=America/New_York:20280618T083000
DTSTAMP:20260421T191749
CREATED:20250509T081848Z
LAST-MODIFIED:20250509T083300Z
UID:10003405-1844929800-1844929800@campchapel.org
SUMMARY:Traditional Services 8:30 & 11
DESCRIPTION:click here to see the full-size poster
URL:https://campchapel.org/event/traditiional-services-830-11-2-2/2028-06-18/
END:VEVENT
BEGIN:VEVENT
DTSTART;TZID=America/New_York:20280616T203000
DTEND;TZID=America/New_York:20280616T203000
DTSTAMP:20260421T191749
CREATED:20240521T052853Z
LAST-MODIFIED:20250313T193220Z
UID:10007001-1844800200-1844800200@campchapel.org
SUMMARY:AA
DESCRIPTION:click here to see the full-size poster
URL:https://campchapel.org/event/aa/2028-06-16/
END:VEVENT
BEGIN:VEVENT
DTSTART;TZID=America/New_York:20280613T190000
DTEND;TZID=America/New_York:20280613T190000
DTSTAMP:20260421T191749
CREATED:20240521T054704Z
LAST-MODIFIED:20241003T170322Z
UID:10005139-1844535600-1844535600@campchapel.org
SUMMARY:Finance (Zoom)
DESCRIPTION:click here to see the full-size poster
URL:https://campchapel.org/event/finance-zoom/2028-06-13/
END:VEVENT
BEGIN:VEVENT
DTSTART;TZID=America/New_York:20280612T190000
DTEND;TZID=America/New_York:20280612T190000
DTSTAMP:20260421T191749
CREATED:20230511T165805Z
LAST-MODIFIED:20250225T191716Z
UID:10006320-1844449200-1844449200@campchapel.org
SUMMARY:By the Grace of NA
DESCRIPTION:click here to see the full-size poster
URL:https://campchapel.org/event/by-the-grace-of-n-a/2028-06-12/
END:VEVENT
BEGIN:VEVENT
DTSTART;TZID=America/New_York:20280611T180000
DTEND;TZID=America/New_York:20280611T180000
DTSTAMP:20260421T191749
CREATED:20240521T052200Z
LAST-MODIFIED:20250225T191516Z
UID:10006058-1844359200-1844359200@campchapel.org
SUMMARY:Serenity NA
DESCRIPTION:click here to see the full-size poster
URL:https://campchapel.org/event/serenity-na/2028-06-11/
END:VEVENT
BEGIN:VEVENT
DTSTART;TZID=America/New_York:20280611T093000
DTEND;TZID=America/New_York:20280611T093000
DTSTAMP:20260421T191749
CREATED:20240329T042203Z
LAST-MODIFIED:20251211T223004Z
UID:10003665-1844328600-1844328600@campchapel.org
SUMMARY:Contemporary Service & Sunday School
DESCRIPTION:click here to see the full-size poster
URL:https://campchapel.org/event/contemporary-service-sunday-school/2028-06-11/
END:VEVENT
BEGIN:VEVENT
DTSTART;TZID=America/New_York:20280611T083000
DTEND;TZID=America/New_York:20280611T083000
DTSTAMP:20260421T191749
CREATED:20250509T083813Z
LAST-MODIFIED:20251211T222757Z
UID:10007264-1844325000-1844325000@campchapel.org
SUMMARY:Traditional Services 8:30 & 11
DESCRIPTION:click here to see the full-size poster
URL:https://campchapel.org/event/traditiional-services-830-11-2-2-2/2028-06-11/
END:VEVENT
BEGIN:VEVENT
DTSTART;TZID=America/New_York:20280611T083000
DTEND;TZID=America/New_York:20280611T083000
DTSTAMP:20260421T191749
CREATED:20250509T081848Z
LAST-MODIFIED:20250509T083300Z
UID:10003404-1844325000-1844325000@campchapel.org
SUMMARY:Traditional Services 8:30 & 11
DESCRIPTION:click here to see the full-size poster
URL:https://campchapel.org/event/traditiional-services-830-11-2-2/2028-06-11/
END:VEVENT
BEGIN:VEVENT
DTSTART;TZID=America/New_York:20280609T203000
DTEND;TZID=America/New_York:20280609T203000
DTSTAMP:20260421T191749
CREATED:20240521T052853Z
LAST-MODIFIED:20250313T193220Z
UID:10007000-1844195400-1844195400@campchapel.org
SUMMARY:AA
DESCRIPTION:click here to see the full-size poster
URL:https://campchapel.org/event/aa/2028-06-09/
END:VEVENT
BEGIN:VEVENT
DTSTART;TZID=America/New_York:20280607T190000
DTEND;TZID=America/New_York:20280607T190000
DTSTAMP:20260421T191749
CREATED:20240521T053857Z
LAST-MODIFIED:20241209T163028Z
UID:10004819-1844017200-1844017200@campchapel.org
SUMMARY:Band of Brothers
DESCRIPTION:click here to see the full-size poster
URL:https://campchapel.org/event/band-of-brothers/2028-06-07/
END:VEVENT
BEGIN:VEVENT
DTSTART;TZID=America/New_York:20280607T110000
DTEND;TZID=America/New_York:20280607T110000
DTSTAMP:20260421T191749
CREATED:20240509T121953Z
LAST-MODIFIED:20241209T162844Z
UID:10003831-1843988400-1843988400@campchapel.org
SUMMARY:J.O.Y
DESCRIPTION:J.O.Y (Just Older Youth)\nJoin us and enjoy an afternoon of lunch\, games\, and fellowship with other Camp Chapel members. Bring a sandwich and a drink for lunch (dessert will be provided). Feel free to bring your favorite board game\, cards\, or dominos. We meet on the first Wednesday of each month. \n\n\n                    \n                        \n                        \n                    \n\n        \n                \n        \n    \n    \n        \n        \n                    \n                    \n\n        \n                        \n                                                click here to see the full-size poster
URL:https://campchapel.org/event/j-o-y/2028-06-07/
END:VEVENT
BEGIN:VEVENT
DTSTART;TZID=America/New_York:20280606T190000
DTEND;TZID=America/New_York:20280606T190000
DTSTAMP:20260421T191749
CREATED:20240521T054526Z
LAST-MODIFIED:20240521T054526Z
UID:10005076-1843930800-1843930800@campchapel.org
SUMMARY:Trustees
DESCRIPTION:click here to see the full-size poster
URL:https://campchapel.org/event/trustees/2028-06-06/
END:VEVENT
BEGIN:VEVENT
DTSTART;TZID=America/New_York:20280606T183000
DTEND;TZID=America/New_York:20280606T183000
DTSTAMP:20260421T191749
CREATED:20260115T164115Z
LAST-MODIFIED:20260115T164305Z
UID:10008024-1843929000-1843929000@campchapel.org
SUMMARY:Circle of Sisters
DESCRIPTION:click here to see the full-size poster
URL:https://campchapel.org/event/circle-of-sisters-4/2028-06-06/
END:VEVENT
BEGIN:VEVENT
DTSTART;TZID=America/New_York:20280605T190000
DTEND;TZID=America/New_York:20280605T190000
DTSTAMP:20260421T191749
CREATED:20230511T165805Z
LAST-MODIFIED:20250225T191716Z
UID:10006319-1843844400-1843844400@campchapel.org
SUMMARY:By the Grace of NA
DESCRIPTION:click here to see the full-size poster
URL:https://campchapel.org/event/by-the-grace-of-n-a/2028-06-05/
END:VEVENT
BEGIN:VEVENT
DTSTART;TZID=America/New_York:20280604T180000
DTEND;TZID=America/New_York:20280604T180000
DTSTAMP:20260421T191749
CREATED:20240521T052200Z
LAST-MODIFIED:20250225T191516Z
UID:10006057-1843754400-1843754400@campchapel.org
SUMMARY:Serenity NA
DESCRIPTION:click here to see the full-size poster
URL:https://campchapel.org/event/serenity-na/2028-06-04/
END:VEVENT
BEGIN:VEVENT
DTSTART;TZID=America/New_York:20280604T093000
DTEND;TZID=America/New_York:20280604T093000
DTSTAMP:20260421T191749
CREATED:20240329T042203Z
LAST-MODIFIED:20251211T223004Z
UID:10003664-1843723800-1843723800@campchapel.org
SUMMARY:Contemporary Service & Sunday School
DESCRIPTION:click here to see the full-size poster
URL:https://campchapel.org/event/contemporary-service-sunday-school/2028-06-04/
END:VEVENT
BEGIN:VEVENT
DTSTART;TZID=America/New_York:20280604T083000
DTEND;TZID=America/New_York:20280604T083000
DTSTAMP:20260421T191749
CREATED:20250509T083813Z
LAST-MODIFIED:20251211T222757Z
UID:10007263-1843720200-1843720200@campchapel.org
SUMMARY:Traditional Services 8:30 & 11
DESCRIPTION:click here to see the full-size poster
URL:https://campchapel.org/event/traditiional-services-830-11-2-2-2/2028-06-04/
END:VEVENT
BEGIN:VEVENT
DTSTART;TZID=America/New_York:20280604T083000
DTEND;TZID=America/New_York:20280604T083000
DTSTAMP:20260421T191749
CREATED:20250509T081848Z
LAST-MODIFIED:20250509T083300Z
UID:10003403-1843720200-1843720200@campchapel.org
SUMMARY:Traditional Services 8:30 & 11
DESCRIPTION:click here to see the full-size poster
URL:https://campchapel.org/event/traditiional-services-830-11-2-2/2028-06-04/
END:VEVENT
BEGIN:VEVENT
DTSTART;TZID=America/New_York:20280602T203000
DTEND;TZID=America/New_York:20280602T203000
DTSTAMP:20260421T191749
CREATED:20240521T052853Z
LAST-MODIFIED:20250313T193220Z
UID:10006999-1843590600-1843590600@campchapel.org
SUMMARY:AA
DESCRIPTION:click here to see the full-size poster
URL:https://campchapel.org/event/aa/2028-06-02/
END:VEVENT
BEGIN:VEVENT
DTSTART;TZID=America/New_York:20280529T190000
DTEND;TZID=America/New_York:20280529T190000
DTSTAMP:20260421T191749
CREATED:20230511T165805Z
LAST-MODIFIED:20250225T191716Z
UID:10006318-1843239600-1843239600@campchapel.org
SUMMARY:By the Grace of NA
DESCRIPTION:click here to see the full-size poster
URL:https://campchapel.org/event/by-the-grace-of-n-a/2028-05-29/
END:VEVENT
BEGIN:VEVENT
DTSTART;TZID=America/New_York:20280528T180000
DTEND;TZID=America/New_York:20280528T180000
DTSTAMP:20260421T191749
CREATED:20240521T052200Z
LAST-MODIFIED:20250225T191516Z
UID:10006056-1843149600-1843149600@campchapel.org
SUMMARY:Serenity NA
DESCRIPTION:click here to see the full-size poster
URL:https://campchapel.org/event/serenity-na/2028-05-28/
END:VEVENT
BEGIN:VEVENT
DTSTART;TZID=America/New_York:20280528T093000
DTEND;TZID=America/New_York:20280528T093000
DTSTAMP:20260421T191749
CREATED:20240329T042203Z
LAST-MODIFIED:20251211T223004Z
UID:10003663-1843119000-1843119000@campchapel.org
SUMMARY:Contemporary Service & Sunday School
DESCRIPTION:click here to see the full-size poster
URL:https://campchapel.org/event/contemporary-service-sunday-school/2028-05-28/
END:VEVENT
BEGIN:VEVENT
DTSTART;TZID=America/New_York:20280528T083000
DTEND;TZID=America/New_York:20280528T083000
DTSTAMP:20260421T191749
CREATED:20250509T083813Z
LAST-MODIFIED:20251211T222757Z
UID:10007262-1843115400-1843115400@campchapel.org
SUMMARY:Traditional Services 8:30 & 11
DESCRIPTION:click here to see the full-size poster
URL:https://campchapel.org/event/traditiional-services-830-11-2-2-2/2028-05-28/
END:VEVENT
BEGIN:VEVENT
DTSTART;TZID=America/New_York:20280528T083000
DTEND;TZID=America/New_York:20280528T083000
DTSTAMP:20260421T191749
CREATED:20250509T081848Z
LAST-MODIFIED:20250509T083300Z
UID:10003402-1843115400-1843115400@campchapel.org
SUMMARY:Traditional Services 8:30 & 11
DESCRIPTION:click here to see the full-size poster
URL:https://campchapel.org/event/traditiional-services-830-11-2-2/2028-05-28/
END:VEVENT
BEGIN:VEVENT
DTSTART;TZID=America/New_York:20280526T203000
DTEND;TZID=America/New_York:20280526T203000
DTSTAMP:20260421T191749
CREATED:20240521T052853Z
LAST-MODIFIED:20250313T193220Z
UID:10006998-1842985800-1842985800@campchapel.org
SUMMARY:AA
DESCRIPTION:click here to see the full-size poster
URL:https://campchapel.org/event/aa/2028-05-26/
END:VEVENT
BEGIN:VEVENT
DTSTART;TZID=America/New_York:20280523T190000
DTEND;TZID=America/New_York:20280523T190000
DTSTAMP:20260421T191749
CREATED:20240521T054854Z
LAST-MODIFIED:20241210T180044Z
UID:10005201-1842721200-1842721200@campchapel.org
SUMMARY:Church Council (Zoom)
DESCRIPTION:click here to see the full-size poster
URL:https://campchapel.org/event/church-council-zoom/2028-05-23/
END:VEVENT
END:VCALENDAR