BEGIN:VCALENDAR
VERSION:2.0
PRODID:-//Camp Chapel United Methodist Church - ECPv6.15.20//NONSGML v1.0//EN
CALSCALE:GREGORIAN
METHOD:PUBLISH
X-WR-CALNAME:Camp Chapel United Methodist Church
X-ORIGINAL-URL:https://campchapel.org
X-WR-CALDESC:Events for Camp Chapel United Methodist Church
REFRESH-INTERVAL;VALUE=DURATION:PT1H
X-Robots-Tag:noindex
X-PUBLISHED-TTL:PT1H
BEGIN:VTIMEZONE
TZID:America/New_York
BEGIN:DAYLIGHT
TZOFFSETFROM:-0500
TZOFFSETTO:-0400
TZNAME:EDT
DTSTART:20270314T070000
END:DAYLIGHT
BEGIN:STANDARD
TZOFFSETFROM:-0400
TZOFFSETTO:-0500
TZNAME:EST
DTSTART:20271107T060000
END:STANDARD
BEGIN:DAYLIGHT
TZOFFSETFROM:-0500
TZOFFSETTO:-0400
TZNAME:EDT
DTSTART:20280312T070000
END:DAYLIGHT
BEGIN:STANDARD
TZOFFSETFROM:-0400
TZOFFSETTO:-0500
TZNAME:EST
DTSTART:20281105T060000
END:STANDARD
BEGIN:DAYLIGHT
TZOFFSETFROM:-0500
TZOFFSETTO:-0400
TZNAME:EDT
DTSTART:20290311T070000
END:DAYLIGHT
BEGIN:STANDARD
TZOFFSETFROM:-0400
TZOFFSETTO:-0500
TZNAME:EST
DTSTART:20291104T060000
END:STANDARD
END:VTIMEZONE
BEGIN:VEVENT
DTSTART;TZID=America/New_York:20280822T190000
DTEND;TZID=America/New_York:20280822T190000
DTSTAMP:20260421T191844
CREATED:20240521T054854Z
LAST-MODIFIED:20241210T180044Z
UID:10005204-1850583600-1850583600@campchapel.org
SUMMARY:Church Council (Zoom)
DESCRIPTION:click here to see the full-size poster
URL:https://campchapel.org/event/church-council-zoom/2028-08-22/
END:VEVENT
BEGIN:VEVENT
DTSTART;TZID=America/New_York:20280821T190000
DTEND;TZID=America/New_York:20280821T190000
DTSTAMP:20260421T191844
CREATED:20230511T165805Z
LAST-MODIFIED:20250225T191716Z
UID:10006330-1850497200-1850497200@campchapel.org
SUMMARY:By the Grace of NA
DESCRIPTION:click here to see the full-size poster
URL:https://campchapel.org/event/by-the-grace-of-n-a/2028-08-21/
END:VEVENT
BEGIN:VEVENT
DTSTART;TZID=America/New_York:20280820T180000
DTEND;TZID=America/New_York:20280820T180000
DTSTAMP:20260421T191844
CREATED:20240521T052200Z
LAST-MODIFIED:20250225T191516Z
UID:10006068-1850407200-1850407200@campchapel.org
SUMMARY:Serenity NA
DESCRIPTION:click here to see the full-size poster
URL:https://campchapel.org/event/serenity-na/2028-08-20/
END:VEVENT
BEGIN:VEVENT
DTSTART;TZID=America/New_York:20280820T093000
DTEND;TZID=America/New_York:20280820T093000
DTSTAMP:20260421T191844
CREATED:20240329T042203Z
LAST-MODIFIED:20251211T223004Z
UID:10003675-1850376600-1850376600@campchapel.org
SUMMARY:Contemporary Service & Sunday School
DESCRIPTION:click here to see the full-size poster
URL:https://campchapel.org/event/contemporary-service-sunday-school/2028-08-20/
END:VEVENT
BEGIN:VEVENT
DTSTART;TZID=America/New_York:20280820T083000
DTEND;TZID=America/New_York:20280820T083000
DTSTAMP:20260421T191844
CREATED:20250509T083813Z
LAST-MODIFIED:20251211T222757Z
UID:10007274-1850373000-1850373000@campchapel.org
SUMMARY:Traditional Services 8:30 & 11
DESCRIPTION:click here to see the full-size poster
URL:https://campchapel.org/event/traditiional-services-830-11-2-2-2/2028-08-20/
END:VEVENT
BEGIN:VEVENT
DTSTART;TZID=America/New_York:20280820T083000
DTEND;TZID=America/New_York:20280820T083000
DTSTAMP:20260421T191844
CREATED:20250509T081848Z
LAST-MODIFIED:20250509T083300Z
UID:10003414-1850373000-1850373000@campchapel.org
SUMMARY:Traditional Services 8:30 & 11
DESCRIPTION:click here to see the full-size poster
URL:https://campchapel.org/event/traditiional-services-830-11-2-2/2028-08-20/
END:VEVENT
BEGIN:VEVENT
DTSTART;TZID=America/New_York:20280818T203000
DTEND;TZID=America/New_York:20280818T203000
DTSTAMP:20260421T191844
CREATED:20240521T052853Z
LAST-MODIFIED:20250313T193220Z
UID:10007010-1850243400-1850243400@campchapel.org
SUMMARY:AA
DESCRIPTION:click here to see the full-size poster
URL:https://campchapel.org/event/aa/2028-08-18/
END:VEVENT
BEGIN:VEVENT
DTSTART;TZID=America/New_York:20280816T190000
DTEND;TZID=America/New_York:20280816T190000
DTSTAMP:20260421T191844
CREATED:20240521T054015Z
LAST-MODIFIED:20240521T054015Z
UID:10004886-1850065200-1850065200@campchapel.org
SUMMARY:Band of Brothers
DESCRIPTION:click here to see the full-size poster
URL:https://campchapel.org/event/band-of-brothers-2/2028-08-16/
END:VEVENT
BEGIN:VEVENT
DTSTART;TZID=America/New_York:20280815T183000
DTEND;TZID=America/New_York:20280815T183000
DTSTAMP:20260421T191844
CREATED:20260115T164842Z
LAST-MODIFIED:20260115T164846Z
UID:10008085-1849977000-1849977000@campchapel.org
SUMMARY:Circle of Sisters
DESCRIPTION:click here to see the full-size poster
URL:https://campchapel.org/event/circle-of-sisters-2-2/2028-08-15/
END:VEVENT
BEGIN:VEVENT
DTSTART;TZID=America/New_York:20280814T190000
DTEND;TZID=America/New_York:20280814T190000
DTSTAMP:20260421T191844
CREATED:20230511T165805Z
LAST-MODIFIED:20250225T191716Z
UID:10006329-1849892400-1849892400@campchapel.org
SUMMARY:By the Grace of NA
DESCRIPTION:click here to see the full-size poster
URL:https://campchapel.org/event/by-the-grace-of-n-a/2028-08-14/
END:VEVENT
BEGIN:VEVENT
DTSTART;TZID=America/New_York:20280813T180000
DTEND;TZID=America/New_York:20280813T180000
DTSTAMP:20260421T191844
CREATED:20240521T052200Z
LAST-MODIFIED:20250225T191516Z
UID:10006067-1849802400-1849802400@campchapel.org
SUMMARY:Serenity NA
DESCRIPTION:click here to see the full-size poster
URL:https://campchapel.org/event/serenity-na/2028-08-13/
END:VEVENT
BEGIN:VEVENT
DTSTART;TZID=America/New_York:20280813T093000
DTEND;TZID=America/New_York:20280813T093000
DTSTAMP:20260421T191844
CREATED:20240329T042203Z
LAST-MODIFIED:20251211T223004Z
UID:10003674-1849771800-1849771800@campchapel.org
SUMMARY:Contemporary Service & Sunday School
DESCRIPTION:click here to see the full-size poster
URL:https://campchapel.org/event/contemporary-service-sunday-school/2028-08-13/
END:VEVENT
BEGIN:VEVENT
DTSTART;TZID=America/New_York:20280813T083000
DTEND;TZID=America/New_York:20280813T083000
DTSTAMP:20260421T191844
CREATED:20250509T083813Z
LAST-MODIFIED:20251211T222757Z
UID:10007273-1849768200-1849768200@campchapel.org
SUMMARY:Traditional Services 8:30 & 11
DESCRIPTION:click here to see the full-size poster
URL:https://campchapel.org/event/traditiional-services-830-11-2-2-2/2028-08-13/
END:VEVENT
BEGIN:VEVENT
DTSTART;TZID=America/New_York:20280813T083000
DTEND;TZID=America/New_York:20280813T083000
DTSTAMP:20260421T191844
CREATED:20250509T081848Z
LAST-MODIFIED:20250509T083300Z
UID:10003413-1849768200-1849768200@campchapel.org
SUMMARY:Traditional Services 8:30 & 11
DESCRIPTION:click here to see the full-size poster
URL:https://campchapel.org/event/traditiional-services-830-11-2-2/2028-08-13/
END:VEVENT
BEGIN:VEVENT
DTSTART;TZID=America/New_York:20280811T203000
DTEND;TZID=America/New_York:20280811T203000
DTSTAMP:20260421T191844
CREATED:20240521T052853Z
LAST-MODIFIED:20250313T193220Z
UID:10007009-1849638600-1849638600@campchapel.org
SUMMARY:AA
DESCRIPTION:click here to see the full-size poster
URL:https://campchapel.org/event/aa/2028-08-11/
END:VEVENT
BEGIN:VEVENT
DTSTART;TZID=America/New_York:20280808T190000
DTEND;TZID=America/New_York:20280808T190000
DTSTAMP:20260421T191844
CREATED:20240521T054704Z
LAST-MODIFIED:20241003T170322Z
UID:10005141-1849374000-1849374000@campchapel.org
SUMMARY:Finance (Zoom)
DESCRIPTION:click here to see the full-size poster
URL:https://campchapel.org/event/finance-zoom/2028-08-08/
END:VEVENT
BEGIN:VEVENT
DTSTART;TZID=America/New_York:20280807T190000
DTEND;TZID=America/New_York:20280807T190000
DTSTAMP:20260421T191844
CREATED:20230511T165805Z
LAST-MODIFIED:20250225T191716Z
UID:10006328-1849287600-1849287600@campchapel.org
SUMMARY:By the Grace of NA
DESCRIPTION:click here to see the full-size poster
URL:https://campchapel.org/event/by-the-grace-of-n-a/2028-08-07/
END:VEVENT
BEGIN:VEVENT
DTSTART;TZID=America/New_York:20280806T180000
DTEND;TZID=America/New_York:20280806T180000
DTSTAMP:20260421T191844
CREATED:20240521T052200Z
LAST-MODIFIED:20250225T191516Z
UID:10006066-1849197600-1849197600@campchapel.org
SUMMARY:Serenity NA
DESCRIPTION:click here to see the full-size poster
URL:https://campchapel.org/event/serenity-na/2028-08-06/
END:VEVENT
BEGIN:VEVENT
DTSTART;TZID=America/New_York:20280806T093000
DTEND;TZID=America/New_York:20280806T093000
DTSTAMP:20260421T191844
CREATED:20240329T042203Z
LAST-MODIFIED:20251211T223004Z
UID:10003673-1849167000-1849167000@campchapel.org
SUMMARY:Contemporary Service & Sunday School
DESCRIPTION:click here to see the full-size poster
URL:https://campchapel.org/event/contemporary-service-sunday-school/2028-08-06/
END:VEVENT
BEGIN:VEVENT
DTSTART;TZID=America/New_York:20280806T083000
DTEND;TZID=America/New_York:20280806T083000
DTSTAMP:20260421T191844
CREATED:20250509T083813Z
LAST-MODIFIED:20251211T222757Z
UID:10007272-1849163400-1849163400@campchapel.org
SUMMARY:Traditional Services 8:30 & 11
DESCRIPTION:click here to see the full-size poster
URL:https://campchapel.org/event/traditiional-services-830-11-2-2-2/2028-08-06/
END:VEVENT
BEGIN:VEVENT
DTSTART;TZID=America/New_York:20280806T083000
DTEND;TZID=America/New_York:20280806T083000
DTSTAMP:20260421T191844
CREATED:20250509T081848Z
LAST-MODIFIED:20250509T083300Z
UID:10003412-1849163400-1849163400@campchapel.org
SUMMARY:Traditional Services 8:30 & 11
DESCRIPTION:click here to see the full-size poster
URL:https://campchapel.org/event/traditiional-services-830-11-2-2/2028-08-06/
END:VEVENT
BEGIN:VEVENT
DTSTART;TZID=America/New_York:20280804T203000
DTEND;TZID=America/New_York:20280804T203000
DTSTAMP:20260421T191844
CREATED:20240521T052853Z
LAST-MODIFIED:20250313T193220Z
UID:10007008-1849033800-1849033800@campchapel.org
SUMMARY:AA
DESCRIPTION:click here to see the full-size poster
URL:https://campchapel.org/event/aa/2028-08-04/
END:VEVENT
BEGIN:VEVENT
DTSTART;TZID=America/New_York:20280802T190000
DTEND;TZID=America/New_York:20280802T190000
DTSTAMP:20260421T191844
CREATED:20240521T053857Z
LAST-MODIFIED:20241209T163028Z
UID:10004821-1848855600-1848855600@campchapel.org
SUMMARY:Band of Brothers
DESCRIPTION:click here to see the full-size poster
URL:https://campchapel.org/event/band-of-brothers/2028-08-02/
END:VEVENT
BEGIN:VEVENT
DTSTART;TZID=America/New_York:20280802T110000
DTEND;TZID=America/New_York:20280802T110000
DTSTAMP:20260421T191844
CREATED:20240509T121953Z
LAST-MODIFIED:20241209T162844Z
UID:10003833-1848826800-1848826800@campchapel.org
SUMMARY:J.O.Y
DESCRIPTION:J.O.Y (Just Older Youth)\nJoin us and enjoy an afternoon of lunch\, games\, and fellowship with other Camp Chapel members. Bring a sandwich and a drink for lunch (dessert will be provided). Feel free to bring your favorite board game\, cards\, or dominos. We meet on the first Wednesday of each month. \n\n\n                    \n                        \n                        \n                    \n\n        \n                \n        \n    \n    \n        \n        \n                    \n                    \n\n        \n                        \n                                                click here to see the full-size poster
URL:https://campchapel.org/event/j-o-y/2028-08-02/
END:VEVENT
BEGIN:VEVENT
DTSTART;TZID=America/New_York:20280801T190000
DTEND;TZID=America/New_York:20280801T190000
DTSTAMP:20260421T191844
CREATED:20240521T054526Z
LAST-MODIFIED:20240521T054526Z
UID:10005078-1848769200-1848769200@campchapel.org
SUMMARY:Trustees
DESCRIPTION:click here to see the full-size poster
URL:https://campchapel.org/event/trustees/2028-08-01/
END:VEVENT
BEGIN:VEVENT
DTSTART;TZID=America/New_York:20280801T183000
DTEND;TZID=America/New_York:20280801T183000
DTSTAMP:20260421T191844
CREATED:20260115T164115Z
LAST-MODIFIED:20260115T164305Z
UID:10008026-1848767400-1848767400@campchapel.org
SUMMARY:Circle of Sisters
DESCRIPTION:click here to see the full-size poster
URL:https://campchapel.org/event/circle-of-sisters-4/2028-08-01/
END:VEVENT
BEGIN:VEVENT
DTSTART;TZID=America/New_York:20280731T190000
DTEND;TZID=America/New_York:20280731T190000
DTSTAMP:20260421T191844
CREATED:20230511T165805Z
LAST-MODIFIED:20250225T191716Z
UID:10006327-1848682800-1848682800@campchapel.org
SUMMARY:By the Grace of NA
DESCRIPTION:click here to see the full-size poster
URL:https://campchapel.org/event/by-the-grace-of-n-a/2028-07-31/
END:VEVENT
BEGIN:VEVENT
DTSTART;TZID=America/New_York:20280730T180000
DTEND;TZID=America/New_York:20280730T180000
DTSTAMP:20260421T191844
CREATED:20240521T052200Z
LAST-MODIFIED:20250225T191516Z
UID:10006065-1848592800-1848592800@campchapel.org
SUMMARY:Serenity NA
DESCRIPTION:click here to see the full-size poster
URL:https://campchapel.org/event/serenity-na/2028-07-30/
END:VEVENT
BEGIN:VEVENT
DTSTART;TZID=America/New_York:20280730T093000
DTEND;TZID=America/New_York:20280730T093000
DTSTAMP:20260421T191844
CREATED:20240329T042203Z
LAST-MODIFIED:20251211T223004Z
UID:10003672-1848562200-1848562200@campchapel.org
SUMMARY:Contemporary Service & Sunday School
DESCRIPTION:click here to see the full-size poster
URL:https://campchapel.org/event/contemporary-service-sunday-school/2028-07-30/
END:VEVENT
BEGIN:VEVENT
DTSTART;TZID=America/New_York:20280730T083000
DTEND;TZID=America/New_York:20280730T083000
DTSTAMP:20260421T191844
CREATED:20250509T083813Z
LAST-MODIFIED:20251211T222757Z
UID:10007271-1848558600-1848558600@campchapel.org
SUMMARY:Traditional Services 8:30 & 11
DESCRIPTION:click here to see the full-size poster
URL:https://campchapel.org/event/traditiional-services-830-11-2-2-2/2028-07-30/
END:VEVENT
END:VCALENDAR