BEGIN:VCALENDAR
VERSION:2.0
PRODID:-//Camp Chapel United Methodist Church - ECPv6.15.20//NONSGML v1.0//EN
CALSCALE:GREGORIAN
METHOD:PUBLISH
X-WR-CALNAME:Camp Chapel United Methodist Church
X-ORIGINAL-URL:https://campchapel.org
X-WR-CALDESC:Events for Camp Chapel United Methodist Church
REFRESH-INTERVAL;VALUE=DURATION:PT1H
X-Robots-Tag:noindex
X-PUBLISHED-TTL:PT1H
BEGIN:VTIMEZONE
TZID:America/New_York
BEGIN:DAYLIGHT
TZOFFSETFROM:-0500
TZOFFSETTO:-0400
TZNAME:EDT
DTSTART:20240310T070000
END:DAYLIGHT
BEGIN:STANDARD
TZOFFSETFROM:-0400
TZOFFSETTO:-0500
TZNAME:EST
DTSTART:20241103T060000
END:STANDARD
BEGIN:DAYLIGHT
TZOFFSETFROM:-0500
TZOFFSETTO:-0400
TZNAME:EDT
DTSTART:20250309T070000
END:DAYLIGHT
BEGIN:STANDARD
TZOFFSETFROM:-0400
TZOFFSETTO:-0500
TZNAME:EST
DTSTART:20251102T060000
END:STANDARD
BEGIN:DAYLIGHT
TZOFFSETFROM:-0500
TZOFFSETTO:-0400
TZNAME:EDT
DTSTART:20260308T070000
END:DAYLIGHT
BEGIN:STANDARD
TZOFFSETFROM:-0400
TZOFFSETTO:-0500
TZNAME:EST
DTSTART:20261101T060000
END:STANDARD
END:VTIMEZONE
BEGIN:VEVENT
DTSTART;TZID=America/New_York:20250327T193000
DTEND;TZID=America/New_York:20250327T193000
DTSTAMP:20260421T130257
CREATED:20240329T040907Z
LAST-MODIFIED:20241209T193115Z
UID:10003171-1743103800-1743103800@campchapel.org
SUMMARY:Chancel Choir Rehearsal
DESCRIPTION:click here to see the full movie poster
URL:https://campchapel.org/event/chancel-choir-2-2/2025-03-27/
END:VEVENT
BEGIN:VEVENT
DTSTART;TZID=America/New_York:20250328T203000
DTEND;TZID=America/New_York:20250328T203000
DTSTAMP:20260421T130257
CREATED:20240521T052853Z
LAST-MODIFIED:20250313T193220Z
UID:10006833-1743193800-1743193800@campchapel.org
SUMMARY:AA
DESCRIPTION:click here to see the full movie poster
URL:https://campchapel.org/event/aa/2025-03-28/
END:VEVENT
BEGIN:VEVENT
DTSTART;VALUE=DATE:20250330
DTEND;VALUE=DATE:20250331
DTSTAMP:20260421T130257
CREATED:20250213T004534Z
LAST-MODIFIED:20250213T004534Z
UID:10005862-1743292800-1743379199@campchapel.org
SUMMARY:UMCOR (United Methodist Committee on Relief) Sunday
DESCRIPTION:click here to see the full movie poster
URL:https://campchapel.org/event/umcor-united-methodist-committee-on-relief-sunday/
ATTACH;FMTTYPE=image/jpeg:https://campchapel.org/wp-content/uploads/2024/01/UMCOR-Sunday-e1706252881593.jpg
END:VEVENT
BEGIN:VEVENT
DTSTART;TZID=America/New_York:20250330T083000
DTEND;TZID=America/New_York:20250330T083000
DTSTAMP:20260421T130257
CREATED:20240329T041927Z
LAST-MODIFIED:20250509T084452Z
UID:10003237-1743323400-1743323400@campchapel.org
SUMMARY:Traditional Services 8:30 & 11
DESCRIPTION:click here to see the full movie poster
URL:https://campchapel.org/event/traditiional-services-830-11-2/2025-03-30/
END:VEVENT
BEGIN:VEVENT
DTSTART;TZID=America/New_York:20250330T093000
DTEND;TZID=America/New_York:20250330T104000
DTSTAMP:20260421T130257
CREATED:20250304T231819Z
LAST-MODIFIED:20250304T231913Z
UID:10006783-1743327000-1743331200@campchapel.org
SUMMARY:Adult Bible Study: "The Final Days" by Matt Rawle
DESCRIPTION:click here to see the full movie poster
URL:https://campchapel.org/event/adult-bible-study-the-final-days-by-matt-rawle/2025-03-30/
ATTACH;FMTTYPE=image/jpeg:https://campchapel.org/wp-content/uploads/2025/03/The-Final-Days-Bible-Study-e1740994844300.jpg
END:VEVENT
BEGIN:VEVENT
DTSTART;TZID=America/New_York:20250330T120000
DTEND;TZID=America/New_York:20250330T150000
DTSTAMP:20260421T130257
CREATED:20250219T090056Z
LAST-MODIFIED:20250219T090056Z
UID:10005877-1743336000-1743346800@campchapel.org
SUMMARY:Garden Gathering
DESCRIPTION:click here to see the full movie poster
URL:https://campchapel.org/event/garden-gathering/
END:VEVENT
BEGIN:VEVENT
DTSTART;TZID=America/New_York:20250330T180000
DTEND;TZID=America/New_York:20250330T180000
DTSTAMP:20260421T130257
CREATED:20240521T052200Z
LAST-MODIFIED:20250225T191516Z
UID:10005891-1743357600-1743357600@campchapel.org
SUMMARY:Serenity NA
DESCRIPTION:click here to see the full movie poster
URL:https://campchapel.org/event/serenity-na/2025-03-30/
END:VEVENT
BEGIN:VEVENT
DTSTART;TZID=America/New_York:20250331T110000
DTEND;TZID=America/New_York:20250331T121500
DTSTAMP:20260421T130257
CREATED:20250304T232505Z
LAST-MODIFIED:20250304T232505Z
UID:10006795-1743418800-1743423300@campchapel.org
SUMMARY:Adult Bible Study: "The Final Days" by Matt Rawle
DESCRIPTION:click here to see the full movie poster
URL:https://campchapel.org/event/adult-bible-study-the-final-days-by-matt-rawle-2/2025-03-31/
ATTACH;FMTTYPE=image/jpeg:https://campchapel.org/wp-content/uploads/2025/03/The-Final-Days-Bible-Study-e1740994844300.jpg
END:VEVENT
BEGIN:VEVENT
DTSTART;TZID=America/New_York:20250331T190000
DTEND;TZID=America/New_York:20250331T190000
DTSTAMP:20260421T130257
CREATED:20230511T165805Z
LAST-MODIFIED:20250225T191716Z
UID:10006153-1743447600-1743447600@campchapel.org
SUMMARY:By the Grace of NA
DESCRIPTION:click here to see the full movie poster
URL:https://campchapel.org/event/by-the-grace-of-n-a/2025-03-31/
END:VEVENT
BEGIN:VEVENT
DTSTART;TZID=America/New_York:20250331T193000
DTEND;TZID=America/New_York:20250331T193000
DTSTAMP:20260421T130257
CREATED:20240329T035254Z
LAST-MODIFIED:20241212T225626Z
UID:10003048-1743449400-1743449400@campchapel.org
SUMMARY:Bell Choir Rehearsal
DESCRIPTION:click here to see the full movie poster
URL:https://campchapel.org/event/bell-choir-rehearsal-2/2025-03-31/
END:VEVENT
BEGIN:VEVENT
DTSTART;VALUE=DATE:20250401
DTEND;VALUE=DATE:20250402
DTSTAMP:20260421T130257
CREATED:20250213T005901Z
LAST-MODIFIED:20260306T071544Z
UID:10005865-1743465600-1743551999@campchapel.org
SUMMARY:April Fools Day
DESCRIPTION:click here to see the full movie poster
URL:https://campchapel.org/event/april-fools-day/2025-04-01/
ATTACH;FMTTYPE=image/jpeg:https://campchapel.org/wp-content/uploads/2024/01/April-Fools-e1704499624484.jpg
END:VEVENT
BEGIN:VEVENT
DTSTART;TZID=America/New_York:20250401T190000
DTEND;TZID=America/New_York:20250401T190000
DTSTAMP:20260421T130257
CREATED:20240521T054526Z
LAST-MODIFIED:20240521T054526Z
UID:10005038-1743534000-1743534000@campchapel.org
SUMMARY:Trustees
DESCRIPTION:click here to see the full movie poster
URL:https://campchapel.org/event/trustees/2025-04-01/
END:VEVENT
BEGIN:VEVENT
DTSTART;TZID=America/New_York:20250402T110000
DTEND;TZID=America/New_York:20250402T110000
DTSTAMP:20260421T130257
CREATED:20240509T121953Z
LAST-MODIFIED:20241209T162844Z
UID:10003793-1743591600-1743591600@campchapel.org
SUMMARY:J.O.Y
DESCRIPTION:J.O.Y (Just Older Youth)\nJoin us and enjoy an afternoon of lunch\, games\, and fellowship with other Camp Chapel members. Bring a sandwich and a drink for lunch (dessert will be provided). Feel free to bring your favorite board game\, cards\, or dominos. We meet on the first Wednesday of each month. \n\n\n                    \n                        \n                        \n                    \n\n        \n                \n        \n    \n    \n        \n        \n                    \n                    \n\n        \n                        \n                                                click here to see the full movie poster
URL:https://campchapel.org/event/j-o-y/2025-04-02/
END:VEVENT
BEGIN:VEVENT
DTSTART;TZID=America/New_York:20250402T190000
DTEND;TZID=America/New_York:20250402T190000
DTSTAMP:20260421T130257
CREATED:20240521T053857Z
LAST-MODIFIED:20241209T163028Z
UID:10004781-1743620400-1743620400@campchapel.org
SUMMARY:Band of Brothers
DESCRIPTION:click here to see the full movie poster
URL:https://campchapel.org/event/band-of-brothers/2025-04-02/
END:VEVENT
BEGIN:VEVENT
DTSTART;TZID=America/New_York:20250403T193000
DTEND;TZID=America/New_York:20250403T193000
DTSTAMP:20260421T130257
CREATED:20240329T040907Z
LAST-MODIFIED:20241209T193115Z
UID:10003172-1743708600-1743708600@campchapel.org
SUMMARY:Chancel Choir Rehearsal
DESCRIPTION:click here to see the full movie poster
URL:https://campchapel.org/event/chancel-choir-2-2/2025-04-03/
END:VEVENT
BEGIN:VEVENT
DTSTART;TZID=America/New_York:20250404T203000
DTEND;TZID=America/New_York:20250404T203000
DTSTAMP:20260421T130257
CREATED:20240521T052853Z
LAST-MODIFIED:20250313T193220Z
UID:10006834-1743798600-1743798600@campchapel.org
SUMMARY:AA
DESCRIPTION:click here to see the full movie poster
URL:https://campchapel.org/event/aa/2025-04-04/
END:VEVENT
BEGIN:VEVENT
DTSTART;TZID=America/New_York:20250406T083000
DTEND;TZID=America/New_York:20250406T083000
DTSTAMP:20260421T130257
CREATED:20240329T041927Z
LAST-MODIFIED:20250509T084452Z
UID:10003238-1743928200-1743928200@campchapel.org
SUMMARY:Traditional Services 8:30 & 11
DESCRIPTION:click here to see the full movie poster
URL:https://campchapel.org/event/traditiional-services-830-11-2/2025-04-06/
END:VEVENT
BEGIN:VEVENT
DTSTART;TZID=America/New_York:20250406T093000
DTEND;TZID=America/New_York:20250406T104000
DTSTAMP:20260421T130258
CREATED:20250304T231819Z
LAST-MODIFIED:20250304T231913Z
UID:10006784-1743931800-1743936000@campchapel.org
SUMMARY:Adult Bible Study: "The Final Days" by Matt Rawle
DESCRIPTION:click here to see the full movie poster
URL:https://campchapel.org/event/adult-bible-study-the-final-days-by-matt-rawle/2025-04-06/
ATTACH;FMTTYPE=image/jpeg:https://campchapel.org/wp-content/uploads/2025/03/The-Final-Days-Bible-Study-e1740994844300.jpg
END:VEVENT
BEGIN:VEVENT
DTSTART;TZID=America/New_York:20250406T180000
DTEND;TZID=America/New_York:20250406T180000
DTSTAMP:20260421T130258
CREATED:20240521T052200Z
LAST-MODIFIED:20250225T191516Z
UID:10005892-1743962400-1743962400@campchapel.org
SUMMARY:Serenity NA
DESCRIPTION:click here to see the full movie poster
URL:https://campchapel.org/event/serenity-na/2025-04-06/
END:VEVENT
BEGIN:VEVENT
DTSTART;TZID=America/New_York:20250407T110000
DTEND;TZID=America/New_York:20250407T121500
DTSTAMP:20260421T130258
CREATED:20250304T232505Z
LAST-MODIFIED:20250304T232505Z
UID:10006796-1744023600-1744028100@campchapel.org
SUMMARY:Adult Bible Study: "The Final Days" by Matt Rawle
DESCRIPTION:click here to see the full movie poster
URL:https://campchapel.org/event/adult-bible-study-the-final-days-by-matt-rawle-2/2025-04-07/
ATTACH;FMTTYPE=image/jpeg:https://campchapel.org/wp-content/uploads/2025/03/The-Final-Days-Bible-Study-e1740994844300.jpg
END:VEVENT
BEGIN:VEVENT
DTSTART;TZID=America/New_York:20250407T190000
DTEND;TZID=America/New_York:20250407T190000
DTSTAMP:20260421T130258
CREATED:20230511T165805Z
LAST-MODIFIED:20250225T191716Z
UID:10006154-1744052400-1744052400@campchapel.org
SUMMARY:By the Grace of NA
DESCRIPTION:click here to see the full movie poster
URL:https://campchapel.org/event/by-the-grace-of-n-a/2025-04-07/
END:VEVENT
BEGIN:VEVENT
DTSTART;TZID=America/New_York:20250407T193000
DTEND;TZID=America/New_York:20250407T193000
DTSTAMP:20260421T130258
CREATED:20240329T035254Z
LAST-MODIFIED:20241212T225626Z
UID:10003049-1744054200-1744054200@campchapel.org
SUMMARY:Bell Choir Rehearsal
DESCRIPTION:click here to see the full movie poster
URL:https://campchapel.org/event/bell-choir-rehearsal-2/2025-04-07/
END:VEVENT
BEGIN:VEVENT
DTSTART;TZID=America/New_York:20250408T183000
DTEND;TZID=America/New_York:20250408T183000
DTSTAMP:20260421T130258
CREATED:20250224T185759Z
LAST-MODIFIED:20250224T185759Z
UID:10005878-1744137000-1744137000@campchapel.org
SUMMARY:SPRC
DESCRIPTION:click here to see the full movie poster
URL:https://campchapel.org/event/sprc/
END:VEVENT
BEGIN:VEVENT
DTSTART;TZID=America/New_York:20250408T190000
DTEND;TZID=America/New_York:20250408T190000
DTSTAMP:20260421T130258
CREATED:20240521T054704Z
LAST-MODIFIED:20241003T170322Z
UID:10005101-1744138800-1744138800@campchapel.org
SUMMARY:Finance (Zoom)
DESCRIPTION:click here to see the full movie poster
URL:https://campchapel.org/event/finance-zoom/2025-04-08/
END:VEVENT
BEGIN:VEVENT
DTSTART;TZID=America/New_York:20250409T183000
DTEND;TZID=America/New_York:20250409T183000
DTSTAMP:20260421T130258
CREATED:20240521T054131Z
LAST-MODIFIED:20260115T164124Z
UID:10007589-1744223400-1744223400@campchapel.org
SUMMARY:Circle of Sisters
DESCRIPTION:click here to see the full movie poster
URL:https://campchapel.org/event/circle-of-sisters/2025-04-09/
END:VEVENT
BEGIN:VEVENT
DTSTART;TZID=America/New_York:20250410T193000
DTEND;TZID=America/New_York:20250410T193000
DTSTAMP:20260421T130258
CREATED:20240329T040907Z
LAST-MODIFIED:20241209T193115Z
UID:10003173-1744313400-1744313400@campchapel.org
SUMMARY:Chancel Choir Rehearsal
DESCRIPTION:click here to see the full movie poster
URL:https://campchapel.org/event/chancel-choir-2-2/2025-04-10/
END:VEVENT
BEGIN:VEVENT
DTSTART;TZID=America/New_York:20250411T203000
DTEND;TZID=America/New_York:20250411T203000
DTSTAMP:20260421T130258
CREATED:20240521T052853Z
LAST-MODIFIED:20250313T193220Z
UID:10006835-1744403400-1744403400@campchapel.org
SUMMARY:AA
DESCRIPTION:click here to see the full movie poster
URL:https://campchapel.org/event/aa/2025-04-11/
END:VEVENT
BEGIN:VEVENT
DTSTART;TZID=America/New_York:20250412T100000
DTEND;TZID=America/New_York:20250412T120000
DTSTAMP:20260421T130258
CREATED:20250113T140808Z
LAST-MODIFIED:20250130T163005Z
UID:10005845-1744452000-1744459200@campchapel.org
SUMMARY:Easter Egg Hunt
DESCRIPTION:click here to see the full movie poster
URL:https://campchapel.org/event/easter-egg-hunt/
ATTACH;FMTTYPE=image/jpeg:https://campchapel.org/wp-content/uploads/2025/01/2025-Easter-Egg-Hunt-e1738173627140.jpg
END:VEVENT
BEGIN:VEVENT
DTSTART;VALUE=DATE:20250413
DTEND;VALUE=DATE:20250414
DTSTAMP:20260421T130258
CREATED:20250105T215228Z
LAST-MODIFIED:20250213T004859Z
UID:10005827-1744502400-1744588799@campchapel.org
SUMMARY:Palm/Passion Sunday
DESCRIPTION:click here to see the full movie poster
URL:https://campchapel.org/event/palm-sunday/
ATTACH;FMTTYPE=image/jpeg:https://campchapel.org/wp-content/uploads/2022/02/Palm-Sunday-scaled-e1645605402266.jpg
END:VEVENT
BEGIN:VEVENT
DTSTART;VALUE=DATE:20250413
DTEND;VALUE=DATE:20250414
DTSTAMP:20260421T130258
CREATED:20250213T021146Z
LAST-MODIFIED:20250213T021622Z
UID:10005870-1744502400-1744588799@campchapel.org
SUMMARY:Passover Begins
DESCRIPTION:click here to see the full movie poster
URL:https://campchapel.org/event/passover-begins/
ATTACH;FMTTYPE=image/jpeg:https://campchapel.org/wp-content/uploads/2023/04/Passover-e1680834341130.jpg
END:VEVENT
END:VCALENDAR