BEGIN:VCALENDAR
VERSION:2.0
PRODID:-//Camp Chapel United Methodist Church - ECPv6.15.20//NONSGML v1.0//EN
CALSCALE:GREGORIAN
METHOD:PUBLISH
X-WR-CALNAME:Camp Chapel United Methodist Church
X-ORIGINAL-URL:https://campchapel.org
X-WR-CALDESC:Events for Camp Chapel United Methodist Church
REFRESH-INTERVAL;VALUE=DURATION:PT1H
X-Robots-Tag:noindex
X-PUBLISHED-TTL:PT1H
BEGIN:VTIMEZONE
TZID:America/New_York
BEGIN:DAYLIGHT
TZOFFSETFROM:-0500
TZOFFSETTO:-0400
TZNAME:EDT
DTSTART:20280312T070000
END:DAYLIGHT
BEGIN:STANDARD
TZOFFSETFROM:-0400
TZOFFSETTO:-0500
TZNAME:EST
DTSTART:20281105T060000
END:STANDARD
BEGIN:DAYLIGHT
TZOFFSETFROM:-0500
TZOFFSETTO:-0400
TZNAME:EDT
DTSTART:20290311T070000
END:DAYLIGHT
BEGIN:STANDARD
TZOFFSETFROM:-0400
TZOFFSETTO:-0500
TZNAME:EST
DTSTART:20291104T060000
END:STANDARD
BEGIN:DAYLIGHT
TZOFFSETFROM:-0500
TZOFFSETTO:-0400
TZNAME:EDT
DTSTART:20300310T070000
END:DAYLIGHT
BEGIN:STANDARD
TZOFFSETFROM:-0400
TZOFFSETTO:-0500
TZNAME:EST
DTSTART:20301103T060000
END:STANDARD
END:VTIMEZONE
BEGIN:VEVENT
DTSTART;TZID=America/New_York:20291104T180000
DTEND;TZID=America/New_York:20291104T180000
DTSTAMP:20260421T141623
CREATED:20240521T052200Z
LAST-MODIFIED:20250225T191516Z
UID:10006131-1888509600-1888509600@campchapel.org
SUMMARY:Serenity NA
DESCRIPTION:click here to see the full-size poster
URL:https://campchapel.org/event/serenity-na/2029-11-04/
END:VEVENT
BEGIN:VEVENT
DTSTART;TZID=America/New_York:20291105T190000
DTEND;TZID=America/New_York:20291105T190000
DTSTAMP:20260421T141623
CREATED:20230511T165805Z
LAST-MODIFIED:20250225T191716Z
UID:10006393-1888599600-1888599600@campchapel.org
SUMMARY:By the Grace of NA
DESCRIPTION:click here to see the full-size poster
URL:https://campchapel.org/event/by-the-grace-of-n-a/2029-11-05/
END:VEVENT
BEGIN:VEVENT
DTSTART;TZID=America/New_York:20291106T183000
DTEND;TZID=America/New_York:20291106T183000
DTSTAMP:20260421T141623
CREATED:20260115T164115Z
LAST-MODIFIED:20260115T164305Z
UID:10008041-1888684200-1888684200@campchapel.org
SUMMARY:Circle of Sisters
DESCRIPTION:click here to see the full-size poster
URL:https://campchapel.org/event/circle-of-sisters-4/2029-11-06/
END:VEVENT
BEGIN:VEVENT
DTSTART;TZID=America/New_York:20291107T110000
DTEND;TZID=America/New_York:20291107T110000
DTSTAMP:20260421T141623
CREATED:20240509T121953Z
LAST-MODIFIED:20241209T162844Z
UID:10005722-1888743600-1888743600@campchapel.org
SUMMARY:J.O.Y
DESCRIPTION:J.O.Y (Just Older Youth)\nJoin us and enjoy an afternoon of lunch\, games\, and fellowship with other Camp Chapel members. Bring a sandwich and a drink for lunch (dessert will be provided). Feel free to bring your favorite board game\, cards\, or dominos. We meet on the first Wednesday of each month. \n\n\n                    \n                        \n                        \n                    \n\n        \n                \n        \n    \n    \n        \n        \n                    \n                    \n\n        \n                        \n                                                click here to see the full-size poster
URL:https://campchapel.org/event/j-o-y/2029-11-07/
END:VEVENT
BEGIN:VEVENT
DTSTART;TZID=America/New_York:20291107T190000
DTEND;TZID=America/New_York:20291107T190000
DTSTAMP:20260421T141623
CREATED:20240521T053857Z
LAST-MODIFIED:20241209T163028Z
UID:10005723-1888772400-1888772400@campchapel.org
SUMMARY:Band of Brothers
DESCRIPTION:click here to see the full-size poster
URL:https://campchapel.org/event/band-of-brothers/2029-11-07/
END:VEVENT
BEGIN:VEVENT
DTSTART;TZID=America/New_York:20291109T203000
DTEND;TZID=America/New_York:20291109T203000
DTSTAMP:20260421T141623
CREATED:20240521T052853Z
LAST-MODIFIED:20250313T193220Z
UID:10007074-1888950600-1888950600@campchapel.org
SUMMARY:AA
DESCRIPTION:click here to see the full-size poster
URL:https://campchapel.org/event/aa/2029-11-09/
END:VEVENT
BEGIN:VEVENT
DTSTART;TZID=America/New_York:20291111T083000
DTEND;TZID=America/New_York:20291111T083000
DTSTAMP:20260421T141623
CREATED:20250509T081848Z
LAST-MODIFIED:20250509T083300Z
UID:10005780-1889080200-1889080200@campchapel.org
SUMMARY:Traditional Services 8:30 & 11
DESCRIPTION:click here to see the full-size poster
URL:https://campchapel.org/event/traditiional-services-830-11-2-2/2029-11-11/
END:VEVENT
BEGIN:VEVENT
DTSTART;TZID=America/New_York:20291111T083000
DTEND;TZID=America/New_York:20291111T083000
DTSTAMP:20260421T141623
CREATED:20250509T083813Z
LAST-MODIFIED:20251211T222757Z
UID:10007338-1889080200-1889080200@campchapel.org
SUMMARY:Traditional Services 8:30 & 11
DESCRIPTION:click here to see the full-size poster
URL:https://campchapel.org/event/traditiional-services-830-11-2-2-2/2029-11-11/
END:VEVENT
BEGIN:VEVENT
DTSTART;TZID=America/New_York:20291111T093000
DTEND;TZID=America/New_York:20291111T093000
DTSTAMP:20260421T141623
CREATED:20240329T042203Z
LAST-MODIFIED:20251211T223004Z
UID:10005818-1889083800-1889083800@campchapel.org
SUMMARY:Contemporary Service & Sunday School
DESCRIPTION:click here to see the full-size poster
URL:https://campchapel.org/event/contemporary-service-sunday-school/2029-11-11/
END:VEVENT
BEGIN:VEVENT
DTSTART;TZID=America/New_York:20291111T180000
DTEND;TZID=America/New_York:20291111T180000
DTSTAMP:20260421T141623
CREATED:20240521T052200Z
LAST-MODIFIED:20250225T191516Z
UID:10006132-1889114400-1889114400@campchapel.org
SUMMARY:Serenity NA
DESCRIPTION:click here to see the full-size poster
URL:https://campchapel.org/event/serenity-na/2029-11-11/
END:VEVENT
BEGIN:VEVENT
DTSTART;TZID=America/New_York:20291112T190000
DTEND;TZID=America/New_York:20291112T190000
DTSTAMP:20260421T141623
CREATED:20230511T165805Z
LAST-MODIFIED:20250225T191716Z
UID:10006394-1889204400-1889204400@campchapel.org
SUMMARY:By the Grace of NA
DESCRIPTION:click here to see the full-size poster
URL:https://campchapel.org/event/by-the-grace-of-n-a/2029-11-12/
END:VEVENT
BEGIN:VEVENT
DTSTART;TZID=America/New_York:20291116T203000
DTEND;TZID=America/New_York:20291116T203000
DTSTAMP:20260421T141623
CREATED:20240521T052853Z
LAST-MODIFIED:20250313T193220Z
UID:10007075-1889555400-1889555400@campchapel.org
SUMMARY:AA
DESCRIPTION:click here to see the full-size poster
URL:https://campchapel.org/event/aa/2029-11-16/
END:VEVENT
BEGIN:VEVENT
DTSTART;TZID=America/New_York:20291118T083000
DTEND;TZID=America/New_York:20291118T083000
DTSTAMP:20260421T141623
CREATED:20250509T081848Z
LAST-MODIFIED:20250509T083300Z
UID:10005781-1889685000-1889685000@campchapel.org
SUMMARY:Traditional Services 8:30 & 11
DESCRIPTION:click here to see the full-size poster
URL:https://campchapel.org/event/traditiional-services-830-11-2-2/2029-11-18/
END:VEVENT
BEGIN:VEVENT
DTSTART;TZID=America/New_York:20291118T083000
DTEND;TZID=America/New_York:20291118T083000
DTSTAMP:20260421T141623
CREATED:20250509T083813Z
LAST-MODIFIED:20251211T222757Z
UID:10007339-1889685000-1889685000@campchapel.org
SUMMARY:Traditional Services 8:30 & 11
DESCRIPTION:click here to see the full-size poster
URL:https://campchapel.org/event/traditiional-services-830-11-2-2-2/2029-11-18/
END:VEVENT
BEGIN:VEVENT
DTSTART;TZID=America/New_York:20291118T093000
DTEND;TZID=America/New_York:20291118T093000
DTSTAMP:20260421T141623
CREATED:20240329T042203Z
LAST-MODIFIED:20251211T223004Z
UID:10005819-1889688600-1889688600@campchapel.org
SUMMARY:Contemporary Service & Sunday School
DESCRIPTION:click here to see the full-size poster
URL:https://campchapel.org/event/contemporary-service-sunday-school/2029-11-18/
END:VEVENT
BEGIN:VEVENT
DTSTART;TZID=America/New_York:20291118T180000
DTEND;TZID=America/New_York:20291118T180000
DTSTAMP:20260421T141623
CREATED:20240521T052200Z
LAST-MODIFIED:20250225T191516Z
UID:10006133-1889719200-1889719200@campchapel.org
SUMMARY:Serenity NA
DESCRIPTION:click here to see the full-size poster
URL:https://campchapel.org/event/serenity-na/2029-11-18/
END:VEVENT
BEGIN:VEVENT
DTSTART;TZID=America/New_York:20291119T190000
DTEND;TZID=America/New_York:20291119T190000
DTSTAMP:20260421T141623
CREATED:20230511T165805Z
LAST-MODIFIED:20250225T191716Z
UID:10006395-1889809200-1889809200@campchapel.org
SUMMARY:By the Grace of NA
DESCRIPTION:click here to see the full-size poster
URL:https://campchapel.org/event/by-the-grace-of-n-a/2029-11-19/
END:VEVENT
BEGIN:VEVENT
DTSTART;TZID=America/New_York:20291120T183000
DTEND;TZID=America/New_York:20291120T183000
DTSTAMP:20260421T141623
CREATED:20260115T164842Z
LAST-MODIFIED:20260115T164846Z
UID:10008100-1889893800-1889893800@campchapel.org
SUMMARY:Circle of Sisters
DESCRIPTION:click here to see the full-size poster
URL:https://campchapel.org/event/circle-of-sisters-2-2/2029-11-20/
END:VEVENT
BEGIN:VEVENT
DTSTART;TZID=America/New_York:20291123T203000
DTEND;TZID=America/New_York:20291123T203000
DTSTAMP:20260421T141623
CREATED:20240521T052853Z
LAST-MODIFIED:20250313T193220Z
UID:10007076-1890160200-1890160200@campchapel.org
SUMMARY:AA
DESCRIPTION:click here to see the full-size poster
URL:https://campchapel.org/event/aa/2029-11-23/
END:VEVENT
BEGIN:VEVENT
DTSTART;TZID=America/New_York:20291125T083000
DTEND;TZID=America/New_York:20291125T083000
DTSTAMP:20260421T141623
CREATED:20250509T081848Z
LAST-MODIFIED:20250509T083300Z
UID:10005782-1890289800-1890289800@campchapel.org
SUMMARY:Traditional Services 8:30 & 11
DESCRIPTION:click here to see the full-size poster
URL:https://campchapel.org/event/traditiional-services-830-11-2-2/2029-11-25/
END:VEVENT
BEGIN:VEVENT
DTSTART;TZID=America/New_York:20291125T083000
DTEND;TZID=America/New_York:20291125T083000
DTSTAMP:20260421T141623
CREATED:20250509T083813Z
LAST-MODIFIED:20251211T222757Z
UID:10007340-1890289800-1890289800@campchapel.org
SUMMARY:Traditional Services 8:30 & 11
DESCRIPTION:click here to see the full-size poster
URL:https://campchapel.org/event/traditiional-services-830-11-2-2-2/2029-11-25/
END:VEVENT
BEGIN:VEVENT
DTSTART;TZID=America/New_York:20291125T093000
DTEND;TZID=America/New_York:20291125T093000
DTSTAMP:20260421T141623
CREATED:20240329T042203Z
LAST-MODIFIED:20251211T223004Z
UID:10005820-1890293400-1890293400@campchapel.org
SUMMARY:Contemporary Service & Sunday School
DESCRIPTION:click here to see the full-size poster
URL:https://campchapel.org/event/contemporary-service-sunday-school/2029-11-25/
END:VEVENT
BEGIN:VEVENT
DTSTART;TZID=America/New_York:20291125T180000
DTEND;TZID=America/New_York:20291125T180000
DTSTAMP:20260421T141623
CREATED:20240521T052200Z
LAST-MODIFIED:20250225T191516Z
UID:10006134-1890324000-1890324000@campchapel.org
SUMMARY:Serenity NA
DESCRIPTION:click here to see the full-size poster
URL:https://campchapel.org/event/serenity-na/2029-11-25/
END:VEVENT
BEGIN:VEVENT
DTSTART;TZID=America/New_York:20291126T190000
DTEND;TZID=America/New_York:20291126T190000
DTSTAMP:20260421T141623
CREATED:20230511T165805Z
LAST-MODIFIED:20250225T191716Z
UID:10006396-1890414000-1890414000@campchapel.org
SUMMARY:By the Grace of NA
DESCRIPTION:click here to see the full-size poster
URL:https://campchapel.org/event/by-the-grace-of-n-a/2029-11-26/
END:VEVENT
BEGIN:VEVENT
DTSTART;TZID=America/New_York:20291127T190000
DTEND;TZID=America/New_York:20291127T190000
DTSTAMP:20260421T141623
CREATED:20240521T054854Z
LAST-MODIFIED:20241210T180044Z
UID:10005740-1890500400-1890500400@campchapel.org
SUMMARY:Church Council (Zoom)
DESCRIPTION:click here to see the full-size poster
URL:https://campchapel.org/event/church-council-zoom/2029-11-27/
END:VEVENT
BEGIN:VEVENT
DTSTART;TZID=America/New_York:20291130T203000
DTEND;TZID=America/New_York:20291130T203000
DTSTAMP:20260421T141623
CREATED:20240521T052853Z
LAST-MODIFIED:20250313T193220Z
UID:10007077-1890765000-1890765000@campchapel.org
SUMMARY:AA
DESCRIPTION:click here to see the full-size poster
URL:https://campchapel.org/event/aa/2029-11-30/
END:VEVENT
BEGIN:VEVENT
DTSTART;TZID=America/New_York:20291202T083000
DTEND;TZID=America/New_York:20291202T083000
DTSTAMP:20260421T141623
CREATED:20250509T081848Z
LAST-MODIFIED:20250509T083300Z
UID:10005783-1890894600-1890894600@campchapel.org
SUMMARY:Traditional Services 8:30 & 11
DESCRIPTION:click here to see the full-size poster
URL:https://campchapel.org/event/traditiional-services-830-11-2-2/2029-12-02/
END:VEVENT
BEGIN:VEVENT
DTSTART;TZID=America/New_York:20291202T083000
DTEND;TZID=America/New_York:20291202T083000
DTSTAMP:20260421T141623
CREATED:20250509T083813Z
LAST-MODIFIED:20251211T222757Z
UID:10007341-1890894600-1890894600@campchapel.org
SUMMARY:Traditional Services 8:30 & 11
DESCRIPTION:click here to see the full-size poster
URL:https://campchapel.org/event/traditiional-services-830-11-2-2-2/2029-12-02/
END:VEVENT
BEGIN:VEVENT
DTSTART;TZID=America/New_York:20291202T093000
DTEND;TZID=America/New_York:20291202T093000
DTSTAMP:20260421T141623
CREATED:20240329T042203Z
LAST-MODIFIED:20251211T223004Z
UID:10005821-1890898200-1890898200@campchapel.org
SUMMARY:Contemporary Service & Sunday School
DESCRIPTION:click here to see the full-size poster
URL:https://campchapel.org/event/contemporary-service-sunday-school/2029-12-02/
END:VEVENT
BEGIN:VEVENT
DTSTART;TZID=America/New_York:20291202T180000
DTEND;TZID=America/New_York:20291202T180000
DTSTAMP:20260421T141623
CREATED:20240521T052200Z
LAST-MODIFIED:20250225T191516Z
UID:10006135-1890928800-1890928800@campchapel.org
SUMMARY:Serenity NA
DESCRIPTION:click here to see the full-size poster
URL:https://campchapel.org/event/serenity-na/2029-12-02/
END:VEVENT
END:VCALENDAR