BEGIN:VCALENDAR
VERSION:2.0
PRODID:-//Camp Chapel United Methodist Church - ECPv6.15.20//NONSGML v1.0//EN
CALSCALE:GREGORIAN
METHOD:PUBLISH
X-WR-CALNAME:Camp Chapel United Methodist Church
X-ORIGINAL-URL:https://campchapel.org
X-WR-CALDESC:Events for Camp Chapel United Methodist Church
REFRESH-INTERVAL;VALUE=DURATION:PT1H
X-Robots-Tag:noindex
X-PUBLISHED-TTL:PT1H
BEGIN:VTIMEZONE
TZID:America/New_York
BEGIN:DAYLIGHT
TZOFFSETFROM:-0500
TZOFFSETTO:-0400
TZNAME:EDT
DTSTART:20240310T070000
END:DAYLIGHT
BEGIN:STANDARD
TZOFFSETFROM:-0400
TZOFFSETTO:-0500
TZNAME:EST
DTSTART:20241103T060000
END:STANDARD
BEGIN:DAYLIGHT
TZOFFSETFROM:-0500
TZOFFSETTO:-0400
TZNAME:EDT
DTSTART:20250309T070000
END:DAYLIGHT
BEGIN:STANDARD
TZOFFSETFROM:-0400
TZOFFSETTO:-0500
TZNAME:EST
DTSTART:20251102T060000
END:STANDARD
BEGIN:DAYLIGHT
TZOFFSETFROM:-0500
TZOFFSETTO:-0400
TZNAME:EDT
DTSTART:20260308T070000
END:DAYLIGHT
BEGIN:STANDARD
TZOFFSETFROM:-0400
TZOFFSETTO:-0500
TZNAME:EST
DTSTART:20261101T060000
END:STANDARD
END:VTIMEZONE
BEGIN:VEVENT
DTSTART;TZID=America/New_York:20251121T203000
DTEND;TZID=America/New_York:20251121T203000
DTSTAMP:20260425T185653
CREATED:20240521T052853Z
LAST-MODIFIED:20250313T193220Z
UID:10006867-1763757000-1763757000@campchapel.org
SUMMARY:AA
DESCRIPTION:Fun\, old-fashion carnival games for all ages! Tickets 25 cents each or $5 to enjoy all the games! Also petting zoo\, crafts\, pony rides\, refreshments\, penny candy table\, souvenirs\, and more! Bring the whole family!
URL:https://campchapel.org/event/aa/2025-11-21/
END:VEVENT
BEGIN:VEVENT
DTSTART;TZID=America/New_York:20251119T190000
DTEND;TZID=America/New_York:20251119T190000
DTSTAMP:20260425T185653
CREATED:20240521T054015Z
LAST-MODIFIED:20240521T054015Z
UID:10004853-1763578800-1763578800@campchapel.org
SUMMARY:Band of Brothers
DESCRIPTION:Fun\, old-fashion carnival games for all ages! Tickets 25 cents each or $5 to enjoy all the games! Also petting zoo\, crafts\, pony rides\, refreshments\, penny candy table\, souvenirs\, and more! Bring the whole family!
URL:https://campchapel.org/event/band-of-brothers-2/2025-11-19/
END:VEVENT
BEGIN:VEVENT
DTSTART;TZID=America/New_York:20251117T190000
DTEND;TZID=America/New_York:20251117T190000
DTSTAMP:20260425T185653
CREATED:20230511T165805Z
LAST-MODIFIED:20250225T191716Z
UID:10006186-1763406000-1763406000@campchapel.org
SUMMARY:By the Grace of NA
DESCRIPTION:Fun\, old-fashion carnival games for all ages! Tickets 25 cents each or $5 to enjoy all the games! Also petting zoo\, crafts\, pony rides\, refreshments\, penny candy table\, souvenirs\, and more! Bring the whole family!
URL:https://campchapel.org/event/by-the-grace-of-n-a/2025-11-17/
END:VEVENT
BEGIN:VEVENT
DTSTART;TZID=America/New_York:20251116T180000
DTEND;TZID=America/New_York:20251116T180000
DTSTAMP:20260425T185653
CREATED:20240521T052200Z
LAST-MODIFIED:20250225T191516Z
UID:10005924-1763316000-1763316000@campchapel.org
SUMMARY:Serenity NA
DESCRIPTION:Fun\, old-fashion carnival games for all ages! Tickets 25 cents each or $5 to enjoy all the games! Also petting zoo\, crafts\, pony rides\, refreshments\, penny candy table\, souvenirs\, and more! Bring the whole family!
URL:https://campchapel.org/event/serenity-na/2025-11-16/
END:VEVENT
BEGIN:VEVENT
DTSTART;TZID=America/New_York:20251116T093000
DTEND;TZID=America/New_York:20251116T093000
DTSTAMP:20260425T185653
CREATED:20240329T042203Z
LAST-MODIFIED:20251211T223004Z
UID:10003531-1763285400-1763285400@campchapel.org
SUMMARY:Contemporary Service & Sunday School
DESCRIPTION:Fun\, old-fashion carnival games for all ages! Tickets 25 cents each or $5 to enjoy all the games! Also petting zoo\, crafts\, pony rides\, refreshments\, penny candy table\, souvenirs\, and more! Bring the whole family!
URL:https://campchapel.org/event/contemporary-service-sunday-school/2025-11-16/
END:VEVENT
BEGIN:VEVENT
DTSTART;TZID=America/New_York:20251116T083000
DTEND;TZID=America/New_York:20251116T083000
DTSTAMP:20260425T185653
CREATED:20250509T083813Z
LAST-MODIFIED:20251211T222757Z
UID:10007130-1763281800-1763281800@campchapel.org
SUMMARY:Traditional Services 8:30 & 11
DESCRIPTION:Fun\, old-fashion carnival games for all ages! Tickets 25 cents each or $5 to enjoy all the games! Also petting zoo\, crafts\, pony rides\, refreshments\, penny candy table\, souvenirs\, and more! Bring the whole family!
URL:https://campchapel.org/event/traditiional-services-830-11-2-2-2/2025-11-16/
END:VEVENT
BEGIN:VEVENT
DTSTART;TZID=America/New_York:20251115T180000
DTEND;TZID=America/New_York:20251115T180000
DTSTAMP:20260425T185653
CREATED:20250609T060420Z
LAST-MODIFIED:20251020T155844Z
UID:10007419-1763229600-1763229600@campchapel.org
SUMMARY:Film Seminar - "Do the Right Thing"
DESCRIPTION:Fun\, old-fashion carnival games for all ages! Tickets 25 cents each or $5 to enjoy all the games! Also petting zoo\, crafts\, pony rides\, refreshments\, penny candy table\, souvenirs\, and more! Bring the whole family!
URL:https://campchapel.org/event/film-seminar-do-the-right-thing/
END:VEVENT
BEGIN:VEVENT
DTSTART;TZID=America/New_York:20251114T203000
DTEND;TZID=America/New_York:20251114T203000
DTSTAMP:20260425T185653
CREATED:20240521T052853Z
LAST-MODIFIED:20250313T193220Z
UID:10006866-1763152200-1763152200@campchapel.org
SUMMARY:AA
DESCRIPTION:Fun\, old-fashion carnival games for all ages! Tickets 25 cents each or $5 to enjoy all the games! Also petting zoo\, crafts\, pony rides\, refreshments\, penny candy table\, souvenirs\, and more! Bring the whole family!
URL:https://campchapel.org/event/aa/2025-11-14/
END:VEVENT
BEGIN:VEVENT
DTSTART;TZID=America/New_York:20251112T183000
DTEND;TZID=America/New_York:20251112T183000
DTSTAMP:20260425T185653
CREATED:20240521T054131Z
LAST-MODIFIED:20260115T164124Z
UID:10007596-1762972200-1762972200@campchapel.org
SUMMARY:Circle of Sisters
DESCRIPTION:Fun\, old-fashion carnival games for all ages! Tickets 25 cents each or $5 to enjoy all the games! Also petting zoo\, crafts\, pony rides\, refreshments\, penny candy table\, souvenirs\, and more! Bring the whole family!
URL:https://campchapel.org/event/circle-of-sisters/2025-11-12/
END:VEVENT
BEGIN:VEVENT
DTSTART;TZID=America/New_York:20251111T190000
DTEND;TZID=America/New_York:20251111T190000
DTSTAMP:20260425T185653
CREATED:20240521T054704Z
LAST-MODIFIED:20241003T170322Z
UID:10005108-1762887600-1762887600@campchapel.org
SUMMARY:Finance (Zoom)
DESCRIPTION:Fun\, old-fashion carnival games for all ages! Tickets 25 cents each or $5 to enjoy all the games! Also petting zoo\, crafts\, pony rides\, refreshments\, penny candy table\, souvenirs\, and more! Bring the whole family!
URL:https://campchapel.org/event/finance-zoom/2025-11-11/
END:VEVENT
BEGIN:VEVENT
DTSTART;TZID=America/New_York:20251110T190000
DTEND;TZID=America/New_York:20251110T190000
DTSTAMP:20260425T185653
CREATED:20230511T165805Z
LAST-MODIFIED:20250225T191716Z
UID:10006185-1762801200-1762801200@campchapel.org
SUMMARY:By the Grace of NA
DESCRIPTION:Fun\, old-fashion carnival games for all ages! Tickets 25 cents each or $5 to enjoy all the games! Also petting zoo\, crafts\, pony rides\, refreshments\, penny candy table\, souvenirs\, and more! Bring the whole family!
URL:https://campchapel.org/event/by-the-grace-of-n-a/2025-11-10/
END:VEVENT
BEGIN:VEVENT
DTSTART;TZID=America/New_York:20251109T180000
DTEND;TZID=America/New_York:20251109T180000
DTSTAMP:20260425T185653
CREATED:20240521T052200Z
LAST-MODIFIED:20250225T191516Z
UID:10005923-1762711200-1762711200@campchapel.org
SUMMARY:Serenity NA
DESCRIPTION:Fun\, old-fashion carnival games for all ages! Tickets 25 cents each or $5 to enjoy all the games! Also petting zoo\, crafts\, pony rides\, refreshments\, penny candy table\, souvenirs\, and more! Bring the whole family!
URL:https://campchapel.org/event/serenity-na/2025-11-09/
END:VEVENT
BEGIN:VEVENT
DTSTART;TZID=America/New_York:20251109T093000
DTEND;TZID=America/New_York:20251109T093000
DTSTAMP:20260425T185653
CREATED:20240329T042203Z
LAST-MODIFIED:20251211T223004Z
UID:10003530-1762680600-1762680600@campchapel.org
SUMMARY:Contemporary Service & Sunday School
DESCRIPTION:Fun\, old-fashion carnival games for all ages! Tickets 25 cents each or $5 to enjoy all the games! Also petting zoo\, crafts\, pony rides\, refreshments\, penny candy table\, souvenirs\, and more! Bring the whole family!
URL:https://campchapel.org/event/contemporary-service-sunday-school/2025-11-09/
END:VEVENT
BEGIN:VEVENT
DTSTART;TZID=America/New_York:20251109T083000
DTEND;TZID=America/New_York:20251109T083000
DTSTAMP:20260425T185653
CREATED:20250509T083813Z
LAST-MODIFIED:20251211T222757Z
UID:10007129-1762677000-1762677000@campchapel.org
SUMMARY:Traditional Services 8:30 & 11
DESCRIPTION:Fun\, old-fashion carnival games for all ages! Tickets 25 cents each or $5 to enjoy all the games! Also petting zoo\, crafts\, pony rides\, refreshments\, penny candy table\, souvenirs\, and more! Bring the whole family!
URL:https://campchapel.org/event/traditiional-services-830-11-2-2-2/2025-11-09/
END:VEVENT
BEGIN:VEVENT
DTSTART;TZID=America/New_York:20251107T203000
DTEND;TZID=America/New_York:20251107T203000
DTSTAMP:20260425T185653
CREATED:20240521T052853Z
LAST-MODIFIED:20250313T193220Z
UID:10006865-1762547400-1762547400@campchapel.org
SUMMARY:AA
DESCRIPTION:Fun\, old-fashion carnival games for all ages! Tickets 25 cents each or $5 to enjoy all the games! Also petting zoo\, crafts\, pony rides\, refreshments\, penny candy table\, souvenirs\, and more! Bring the whole family!
URL:https://campchapel.org/event/aa/2025-11-07/
END:VEVENT
BEGIN:VEVENT
DTSTART;TZID=America/New_York:20251105T190000
DTEND;TZID=America/New_York:20251105T190000
DTSTAMP:20260425T185653
CREATED:20240521T053857Z
LAST-MODIFIED:20241209T163028Z
UID:10004788-1762369200-1762369200@campchapel.org
SUMMARY:Band of Brothers
DESCRIPTION:Fun\, old-fashion carnival games for all ages! Tickets 25 cents each or $5 to enjoy all the games! Also petting zoo\, crafts\, pony rides\, refreshments\, penny candy table\, souvenirs\, and more! Bring the whole family!
URL:https://campchapel.org/event/band-of-brothers/2025-11-05/
END:VEVENT
BEGIN:VEVENT
DTSTART;TZID=America/New_York:20251105T110000
DTEND;TZID=America/New_York:20251105T110000
DTSTAMP:20260425T185653
CREATED:20240509T121953Z
LAST-MODIFIED:20241209T162844Z
UID:10003800-1762340400-1762340400@campchapel.org
SUMMARY:J.O.Y
DESCRIPTION:J.O.Y (Just Older Youth)\nJoin us and enjoy an afternoon of lunch\, games\, and fellowship with other Camp Chapel members. Bring a sandwich and a drink for lunch (dessert will be provided). Feel free to bring your favorite board game\, cards\, or dominos. We meet on the first Wednesday of each month. \n\n\n                    \n                        \n                        \n                    \n\n        \n                \n        \n    \n    \n        \n        \n                    \n                    \n\n        \n    Fun\, old-fashion carnival games for all ages! Tickets 25 cents each or $5 to enjoy all the games! Also petting zoo\, crafts\, pony rides\, refreshments\, penny candy table\, souvenirs\, and more! Bring the whole family!
URL:https://campchapel.org/event/j-o-y/2025-11-05/
END:VEVENT
BEGIN:VEVENT
DTSTART;TZID=America/New_York:20251104T190000
DTEND;TZID=America/New_York:20251104T190000
DTSTAMP:20260425T185653
CREATED:20240521T054526Z
LAST-MODIFIED:20240521T054526Z
UID:10005045-1762282800-1762282800@campchapel.org
SUMMARY:Trustees
DESCRIPTION:Fun\, old-fashion carnival games for all ages! Tickets 25 cents each or $5 to enjoy all the games! Also petting zoo\, crafts\, pony rides\, refreshments\, penny candy table\, souvenirs\, and more! Bring the whole family!
URL:https://campchapel.org/event/trustees/2025-11-04/
END:VEVENT
BEGIN:VEVENT
DTSTART;TZID=America/New_York:20251104T183000
DTEND;TZID=America/New_York:20251104T183000
DTSTAMP:20260425T185653
CREATED:20241030T131804Z
LAST-MODIFIED:20241030T132200Z
UID:10005716-1762281000-1762281000@campchapel.org
SUMMARY:Windsor Condo Meeting
DESCRIPTION:Fun\, old-fashion carnival games for all ages! Tickets 25 cents each or $5 to enjoy all the games! Also petting zoo\, crafts\, pony rides\, refreshments\, penny candy table\, souvenirs\, and more! Bring the whole family!
URL:https://campchapel.org/event/windsor-condo-meeting-4/
END:VEVENT
BEGIN:VEVENT
DTSTART;TZID=America/New_York:20251103T190000
DTEND;TZID=America/New_York:20251103T190000
DTSTAMP:20260425T185653
CREATED:20230511T165805Z
LAST-MODIFIED:20250225T191716Z
UID:10006184-1762196400-1762196400@campchapel.org
SUMMARY:By the Grace of NA
DESCRIPTION:Fun\, old-fashion carnival games for all ages! Tickets 25 cents each or $5 to enjoy all the games! Also petting zoo\, crafts\, pony rides\, refreshments\, penny candy table\, souvenirs\, and more! Bring the whole family!
URL:https://campchapel.org/event/by-the-grace-of-n-a/2025-11-03/
END:VEVENT
BEGIN:VEVENT
DTSTART;TZID=America/New_York:20251102T180000
DTEND;TZID=America/New_York:20251102T180000
DTSTAMP:20260425T185653
CREATED:20240521T052200Z
LAST-MODIFIED:20250225T191516Z
UID:10005922-1762106400-1762106400@campchapel.org
SUMMARY:Serenity NA
DESCRIPTION:Fun\, old-fashion carnival games for all ages! Tickets 25 cents each or $5 to enjoy all the games! Also petting zoo\, crafts\, pony rides\, refreshments\, penny candy table\, souvenirs\, and more! Bring the whole family!
URL:https://campchapel.org/event/serenity-na/2025-11-02/
END:VEVENT
BEGIN:VEVENT
DTSTART;TZID=America/New_York:20251102T160000
DTEND;TZID=America/New_York:20251102T170000
DTSTAMP:20260425T185653
CREATED:20250531T142418Z
LAST-MODIFIED:20250531T142418Z
UID:10007412-1762099200-1762102800@campchapel.org
SUMMARY:Fall Music Concert
DESCRIPTION:Fun\, old-fashion carnival games for all ages! Tickets 25 cents each or $5 to enjoy all the games! Also petting zoo\, crafts\, pony rides\, refreshments\, penny candy table\, souvenirs\, and more! Bring the whole family!
URL:https://campchapel.org/event/fall-music-concert-2/
END:VEVENT
BEGIN:VEVENT
DTSTART;TZID=America/New_York:20251102T093000
DTEND;TZID=America/New_York:20251102T093000
DTSTAMP:20260425T185653
CREATED:20240329T042203Z
LAST-MODIFIED:20251211T223004Z
UID:10003529-1762075800-1762075800@campchapel.org
SUMMARY:Contemporary Service & Sunday School
DESCRIPTION:Fun\, old-fashion carnival games for all ages! Tickets 25 cents each or $5 to enjoy all the games! Also petting zoo\, crafts\, pony rides\, refreshments\, penny candy table\, souvenirs\, and more! Bring the whole family!
URL:https://campchapel.org/event/contemporary-service-sunday-school/2025-11-02/
END:VEVENT
BEGIN:VEVENT
DTSTART;TZID=America/New_York:20251102T083000
DTEND;TZID=America/New_York:20251102T083000
DTSTAMP:20260425T185653
CREATED:20250509T083813Z
LAST-MODIFIED:20251211T222757Z
UID:10007128-1762072200-1762072200@campchapel.org
SUMMARY:Traditional Services 8:30 & 11
DESCRIPTION:Fun\, old-fashion carnival games for all ages! Tickets 25 cents each or $5 to enjoy all the games! Also petting zoo\, crafts\, pony rides\, refreshments\, penny candy table\, souvenirs\, and more! Bring the whole family!
URL:https://campchapel.org/event/traditiional-services-830-11-2-2-2/2025-11-02/
END:VEVENT
BEGIN:VEVENT
DTSTART;VALUE=DATE:20251102
DTEND;VALUE=DATE:20251103
DTSTAMP:20260425T185653
CREATED:20250917T084349Z
LAST-MODIFIED:20250917T084349Z
UID:10007579-1762041600-1762127999@campchapel.org
SUMMARY:Daylight Saving Time Ends
DESCRIPTION:Fun\, old-fashion carnival games for all ages! Tickets 25 cents each or $5 to enjoy all the games! Also petting zoo\, crafts\, pony rides\, refreshments\, penny candy table\, souvenirs\, and more! Bring the whole family!
URL:https://campchapel.org/event/daylight-saving-time-ends/
ATTACH;FMTTYPE=image/jpeg:https://campchapel.org/wp-content/uploads/2025/09/dAYLIGHTT-sAVINGS-tIME-eNDS-e1758098621345.jpg
END:VEVENT
BEGIN:VEVENT
DTSTART;VALUE=DATE:20251102
DTEND;VALUE=DATE:20251103
DTSTAMP:20260425T185653
CREATED:20250916T063039Z
LAST-MODIFIED:20250916T063039Z
UID:10007460-1762041600-1762127999@campchapel.org
SUMMARY:All Saints Sunday
DESCRIPTION:Fun\, old-fashion carnival games for all ages! Tickets 25 cents each or $5 to enjoy all the games! Also petting zoo\, crafts\, pony rides\, refreshments\, penny candy table\, souvenirs\, and more! Bring the whole family!
URL:https://campchapel.org/event/all-saints-sunday-2/
ATTACH;FMTTYPE=image/jpeg:https://campchapel.org/wp-content/uploads/2022/08/All-Saints-Sunday-scaled-e1661842096421.jpg
END:VEVENT
BEGIN:VEVENT
DTSTART;VALUE=DATE:20251101
DTEND;VALUE=DATE:20251102
DTSTAMP:20260425T185653
CREATED:20250916T062939Z
LAST-MODIFIED:20250916T062939Z
UID:10007459-1761955200-1762041599@campchapel.org
SUMMARY:All Saints Day
DESCRIPTION:Fun\, old-fashion carnival games for all ages! Tickets 25 cents each or $5 to enjoy all the games! Also petting zoo\, crafts\, pony rides\, refreshments\, penny candy table\, souvenirs\, and more! Bring the whole family!
URL:https://campchapel.org/event/all-saints-day-2/
ATTACH;FMTTYPE=image/jpeg:https://campchapel.org/wp-content/uploads/2022/08/All-Saints-Day-scaled-e1661841927873.jpg
END:VEVENT
BEGIN:VEVENT
DTSTART;TZID=America/New_York:20251031T203000
DTEND;TZID=America/New_York:20251031T203000
DTSTAMP:20260425T185653
CREATED:20240521T052853Z
LAST-MODIFIED:20250313T193220Z
UID:10006864-1761942600-1761942600@campchapel.org
SUMMARY:AA
DESCRIPTION:Fun\, old-fashion carnival games for all ages! Tickets 25 cents each or $5 to enjoy all the games! Also petting zoo\, crafts\, pony rides\, refreshments\, penny candy table\, souvenirs\, and more! Bring the whole family!
URL:https://campchapel.org/event/aa/2025-10-31/
END:VEVENT
BEGIN:VEVENT
DTSTART;VALUE=DATE:20251031
DTEND;VALUE=DATE:20251101
DTSTAMP:20260425T185653
CREATED:20250915T143128Z
LAST-MODIFIED:20250915T143128Z
UID:10007453-1761868800-1761955199@campchapel.org
SUMMARY:Halloween
DESCRIPTION:Fun\, old-fashion carnival games for all ages! Tickets 25 cents each or $5 to enjoy all the games! Also petting zoo\, crafts\, pony rides\, refreshments\, penny candy table\, souvenirs\, and more! Bring the whole family!
URL:https://campchapel.org/event/halloween/
ATTACH;FMTTYPE=image/png:https://campchapel.org/wp-content/uploads/2025/09/Halloween-scaled-e1757946672374.png
END:VEVENT
BEGIN:VEVENT
DTSTART;TZID=America/New_York:20251028T190000
DTEND;TZID=America/New_York:20251028T190000
DTSTAMP:20260425T185653
CREATED:20240521T054854Z
LAST-MODIFIED:20241210T180044Z
UID:10005170-1761678000-1761678000@campchapel.org
SUMMARY:Church Council (Zoom)
DESCRIPTION:Fun\, old-fashion carnival games for all ages! Tickets 25 cents each or $5 to enjoy all the games! Also petting zoo\, crafts\, pony rides\, refreshments\, penny candy table\, souvenirs\, and more! Bring the whole family!
URL:https://campchapel.org/event/church-council-zoom/2025-10-28/
END:VEVENT
END:VCALENDAR