BEGIN:VCALENDAR
VERSION:2.0
PRODID:-//Camp Chapel United Methodist Church - ECPv6.15.20//NONSGML v1.0//EN
CALSCALE:GREGORIAN
METHOD:PUBLISH
X-WR-CALNAME:Camp Chapel United Methodist Church
X-ORIGINAL-URL:https://campchapel.org
X-WR-CALDESC:Events for Camp Chapel United Methodist Church
REFRESH-INTERVAL;VALUE=DURATION:PT1H
X-Robots-Tag:noindex
X-PUBLISHED-TTL:PT1H
BEGIN:VTIMEZONE
TZID:America/New_York
BEGIN:DAYLIGHT
TZOFFSETFROM:-0500
TZOFFSETTO:-0400
TZNAME:EDT
DTSTART:20250309T070000
END:DAYLIGHT
BEGIN:STANDARD
TZOFFSETFROM:-0400
TZOFFSETTO:-0500
TZNAME:EST
DTSTART:20251102T060000
END:STANDARD
BEGIN:DAYLIGHT
TZOFFSETFROM:-0500
TZOFFSETTO:-0400
TZNAME:EDT
DTSTART:20260308T070000
END:DAYLIGHT
BEGIN:STANDARD
TZOFFSETFROM:-0400
TZOFFSETTO:-0500
TZNAME:EST
DTSTART:20261101T060000
END:STANDARD
BEGIN:DAYLIGHT
TZOFFSETFROM:-0500
TZOFFSETTO:-0400
TZNAME:EDT
DTSTART:20270314T070000
END:DAYLIGHT
BEGIN:STANDARD
TZOFFSETFROM:-0400
TZOFFSETTO:-0500
TZNAME:EST
DTSTART:20271107T060000
END:STANDARD
BEGIN:DAYLIGHT
TZOFFSETFROM:-0500
TZOFFSETTO:-0400
TZNAME:EDT
DTSTART:20280312T070000
END:DAYLIGHT
BEGIN:STANDARD
TZOFFSETFROM:-0400
TZOFFSETTO:-0500
TZNAME:EST
DTSTART:20281105T060000
END:STANDARD
END:VTIMEZONE
BEGIN:VEVENT
DTSTART;TZID=America/New_York:20270106T110000
DTEND;TZID=America/New_York:20270106T110000
DTSTAMP:20260424T230107
CREATED:20240509T121953Z
LAST-MODIFIED:20241209T162844Z
UID:10003814-1799233200-1799233200@campchapel.org
SUMMARY:J.O.Y
DESCRIPTION:J.O.Y (Just Older Youth)\nJoin us and enjoy an afternoon of lunch\, games\, and fellowship with other Camp Chapel members. Bring a sandwich and a drink for lunch (dessert will be provided). Feel free to bring your favorite board game\, cards\, or dominos. We meet on the first Wednesday of each month. \n\n\n                    \n                        \n                        \n                    \n\n        \n                \n        \n    \n    \n        \n        \n                    \n                    \n\n        \n    Fun\, old-fashion carnival games for all ages! Tickets 25 cents each or $5 to enjoy all the games! Also petting zoo\, crafts\, pony rides\, refreshments\, penny candy table\, souvenirs\, and more! Bring the whole family!
URL:https://campchapel.org/event/j-o-y/2027-01-06/
END:VEVENT
BEGIN:VEVENT
DTSTART;VALUE=DATE:20270106
DTEND;VALUE=DATE:20270107
DTSTAMP:20260424T230107
CREATED:20250107T092327Z
LAST-MODIFIED:20260111T173809Z
UID:10007841-1799193600-1799279999@campchapel.org
SUMMARY:Feast of the Epiphany
DESCRIPTION:Fun\, old-fashion carnival games for all ages! Tickets 25 cents each or $5 to enjoy all the games! Also petting zoo\, crafts\, pony rides\, refreshments\, penny candy table\, souvenirs\, and more! Bring the whole family!
URL:https://campchapel.org/event/feast-of-the-epiphany/2027-01-06/
ATTACH;FMTTYPE=image/jpeg:https://campchapel.org/wp-content/uploads/2022/03/Epiphany-2-scaled-e1646461199741.jpg
END:VEVENT
BEGIN:VEVENT
DTSTART;TZID=America/New_York:20270105T190000
DTEND;TZID=America/New_York:20270105T190000
DTSTAMP:20260424T230107
CREATED:20240521T054526Z
LAST-MODIFIED:20240521T054526Z
UID:10005059-1799175600-1799175600@campchapel.org
SUMMARY:Trustees
DESCRIPTION:Fun\, old-fashion carnival games for all ages! Tickets 25 cents each or $5 to enjoy all the games! Also petting zoo\, crafts\, pony rides\, refreshments\, penny candy table\, souvenirs\, and more! Bring the whole family!
URL:https://campchapel.org/event/trustees/2027-01-05/
END:VEVENT
BEGIN:VEVENT
DTSTART;TZID=America/New_York:20270105T183000
DTEND;TZID=America/New_York:20270105T183000
DTSTAMP:20260424T230107
CREATED:20260115T164115Z
LAST-MODIFIED:20260115T164305Z
UID:10008007-1799173800-1799173800@campchapel.org
SUMMARY:Circle of Sisters
DESCRIPTION:Fun\, old-fashion carnival games for all ages! Tickets 25 cents each or $5 to enjoy all the games! Also petting zoo\, crafts\, pony rides\, refreshments\, penny candy table\, souvenirs\, and more! Bring the whole family!
URL:https://campchapel.org/event/circle-of-sisters-4/2027-01-05/
END:VEVENT
BEGIN:VEVENT
DTSTART;TZID=America/New_York:20270104T190000
DTEND;TZID=America/New_York:20270104T190000
DTSTAMP:20260424T230107
CREATED:20230511T165805Z
LAST-MODIFIED:20250225T191716Z
UID:10006245-1799089200-1799089200@campchapel.org
SUMMARY:By the Grace of NA
DESCRIPTION:Fun\, old-fashion carnival games for all ages! Tickets 25 cents each or $5 to enjoy all the games! Also petting zoo\, crafts\, pony rides\, refreshments\, penny candy table\, souvenirs\, and more! Bring the whole family!
URL:https://campchapel.org/event/by-the-grace-of-n-a/2027-01-04/
END:VEVENT
BEGIN:VEVENT
DTSTART;TZID=America/New_York:20270103T180000
DTEND;TZID=America/New_York:20270103T180000
DTSTAMP:20260424T230107
CREATED:20240521T052200Z
LAST-MODIFIED:20250225T191516Z
UID:10005983-1798999200-1798999200@campchapel.org
SUMMARY:Serenity NA
DESCRIPTION:Fun\, old-fashion carnival games for all ages! Tickets 25 cents each or $5 to enjoy all the games! Also petting zoo\, crafts\, pony rides\, refreshments\, penny candy table\, souvenirs\, and more! Bring the whole family!
URL:https://campchapel.org/event/serenity-na/2027-01-03/
END:VEVENT
BEGIN:VEVENT
DTSTART;TZID=America/New_York:20270103T093000
DTEND;TZID=America/New_York:20270103T093000
DTSTAMP:20260424T230107
CREATED:20240329T042203Z
LAST-MODIFIED:20251211T223004Z
UID:10003590-1798968600-1798968600@campchapel.org
SUMMARY:Contemporary Service & Sunday School
DESCRIPTION:Fun\, old-fashion carnival games for all ages! Tickets 25 cents each or $5 to enjoy all the games! Also petting zoo\, crafts\, pony rides\, refreshments\, penny candy table\, souvenirs\, and more! Bring the whole family!
URL:https://campchapel.org/event/contemporary-service-sunday-school/2027-01-03/
END:VEVENT
BEGIN:VEVENT
DTSTART;TZID=America/New_York:20270103T083000
DTEND;TZID=America/New_York:20270103T083000
DTSTAMP:20260424T230107
CREATED:20250509T083813Z
LAST-MODIFIED:20251211T222757Z
UID:10007189-1798965000-1798965000@campchapel.org
SUMMARY:Traditional Services 8:30 & 11
DESCRIPTION:Fun\, old-fashion carnival games for all ages! Tickets 25 cents each or $5 to enjoy all the games! Also petting zoo\, crafts\, pony rides\, refreshments\, penny candy table\, souvenirs\, and more! Bring the whole family!
URL:https://campchapel.org/event/traditiional-services-830-11-2-2-2/2027-01-03/
END:VEVENT
BEGIN:VEVENT
DTSTART;TZID=America/New_York:20270103T083000
DTEND;TZID=America/New_York:20270103T083000
DTSTAMP:20260424T230107
CREATED:20250509T081848Z
LAST-MODIFIED:20250509T083300Z
UID:10003329-1798965000-1798965000@campchapel.org
SUMMARY:Traditional Services 8:30 & 11
DESCRIPTION:Fun\, old-fashion carnival games for all ages! Tickets 25 cents each or $5 to enjoy all the games! Also petting zoo\, crafts\, pony rides\, refreshments\, penny candy table\, souvenirs\, and more! Bring the whole family!
URL:https://campchapel.org/event/traditiional-services-830-11-2-2/2027-01-03/
END:VEVENT
BEGIN:VEVENT
DTSTART;TZID=America/New_York:20270101T203000
DTEND;TZID=America/New_York:20270101T203000
DTSTAMP:20260424T230107
CREATED:20240521T052853Z
LAST-MODIFIED:20250313T193220Z
UID:10006925-1798835400-1798835400@campchapel.org
SUMMARY:AA
DESCRIPTION:Fun\, old-fashion carnival games for all ages! Tickets 25 cents each or $5 to enjoy all the games! Also petting zoo\, crafts\, pony rides\, refreshments\, penny candy table\, souvenirs\, and more! Bring the whole family!
URL:https://campchapel.org/event/aa/2027-01-01/
END:VEVENT
BEGIN:VEVENT
DTSTART;VALUE=DATE:20270101
DTEND;VALUE=DATE:20270102
DTSTAMP:20260424T230107
CREATED:20250917T081028Z
LAST-MODIFIED:20260111T173616Z
UID:10007835-1798761600-1798847999@campchapel.org
SUMMARY:New Years Day
DESCRIPTION:Fun\, old-fashion carnival games for all ages! Tickets 25 cents each or $5 to enjoy all the games! Also petting zoo\, crafts\, pony rides\, refreshments\, penny candy table\, souvenirs\, and more! Bring the whole family!
URL:https://campchapel.org/event/new-years-day-2/2027-01-01/
ATTACH;FMTTYPE=image/jpeg:https://campchapel.org/wp-content/uploads/2024/12/New-Years-Day-scaled-e1733862287849.jpg
END:VEVENT
BEGIN:VEVENT
DTSTART;VALUE=DATE:20261231
DTEND;VALUE=DATE:20270101
DTSTAMP:20260424T230107
CREATED:20241210T192934Z
LAST-MODIFIED:20260111T173307Z
UID:10007829-1798675200-1798761599@campchapel.org
SUMMARY:New Years Eve
DESCRIPTION:Fun\, old-fashion carnival games for all ages! Tickets 25 cents each or $5 to enjoy all the games! Also petting zoo\, crafts\, pony rides\, refreshments\, penny candy table\, souvenirs\, and more! Bring the whole family!
URL:https://campchapel.org/event/new-years-eve/2026-12-31/
ATTACH;FMTTYPE=image/jpeg:https://campchapel.org/wp-content/uploads/2022/10/6LGAZ4Y-new-years-eve-wallpaper-scaled-e1665730842686.jpg
END:VEVENT
BEGIN:VEVENT
DTSTART;TZID=America/New_York:20261228T190000
DTEND;TZID=America/New_York:20261228T190000
DTSTAMP:20260424T230107
CREATED:20230511T165805Z
LAST-MODIFIED:20250225T191716Z
UID:10006244-1798484400-1798484400@campchapel.org
SUMMARY:By the Grace of NA
DESCRIPTION:Fun\, old-fashion carnival games for all ages! Tickets 25 cents each or $5 to enjoy all the games! Also petting zoo\, crafts\, pony rides\, refreshments\, penny candy table\, souvenirs\, and more! Bring the whole family!
URL:https://campchapel.org/event/by-the-grace-of-n-a/2026-12-28/
END:VEVENT
BEGIN:VEVENT
DTSTART;TZID=America/New_York:20261227T180000
DTEND;TZID=America/New_York:20261227T180000
DTSTAMP:20260424T230107
CREATED:20240521T052200Z
LAST-MODIFIED:20250225T191516Z
UID:10005982-1798394400-1798394400@campchapel.org
SUMMARY:Serenity NA
DESCRIPTION:Fun\, old-fashion carnival games for all ages! Tickets 25 cents each or $5 to enjoy all the games! Also petting zoo\, crafts\, pony rides\, refreshments\, penny candy table\, souvenirs\, and more! Bring the whole family!
URL:https://campchapel.org/event/serenity-na/2026-12-27/
END:VEVENT
BEGIN:VEVENT
DTSTART;TZID=America/New_York:20261227T093000
DTEND;TZID=America/New_York:20261227T093000
DTSTAMP:20260424T230107
CREATED:20240329T042203Z
LAST-MODIFIED:20251211T223004Z
UID:10003589-1798363800-1798363800@campchapel.org
SUMMARY:Contemporary Service & Sunday School
DESCRIPTION:Fun\, old-fashion carnival games for all ages! Tickets 25 cents each or $5 to enjoy all the games! Also petting zoo\, crafts\, pony rides\, refreshments\, penny candy table\, souvenirs\, and more! Bring the whole family!
URL:https://campchapel.org/event/contemporary-service-sunday-school/2026-12-27/
END:VEVENT
BEGIN:VEVENT
DTSTART;TZID=America/New_York:20261227T083000
DTEND;TZID=America/New_York:20261227T083000
DTSTAMP:20260424T230107
CREATED:20250509T083813Z
LAST-MODIFIED:20251211T222757Z
UID:10007188-1798360200-1798360200@campchapel.org
SUMMARY:Traditional Services 8:30 & 11
DESCRIPTION:Fun\, old-fashion carnival games for all ages! Tickets 25 cents each or $5 to enjoy all the games! Also petting zoo\, crafts\, pony rides\, refreshments\, penny candy table\, souvenirs\, and more! Bring the whole family!
URL:https://campchapel.org/event/traditiional-services-830-11-2-2-2/2026-12-27/
END:VEVENT
BEGIN:VEVENT
DTSTART;TZID=America/New_York:20261227T083000
DTEND;TZID=America/New_York:20261227T083000
DTSTAMP:20260424T230107
CREATED:20250509T081848Z
LAST-MODIFIED:20250509T083300Z
UID:10003328-1798360200-1798360200@campchapel.org
SUMMARY:Traditional Services 8:30 & 11
DESCRIPTION:Fun\, old-fashion carnival games for all ages! Tickets 25 cents each or $5 to enjoy all the games! Also petting zoo\, crafts\, pony rides\, refreshments\, penny candy table\, souvenirs\, and more! Bring the whole family!
URL:https://campchapel.org/event/traditiional-services-830-11-2-2/2026-12-27/
END:VEVENT
BEGIN:VEVENT
DTSTART;TZID=America/New_York:20261225T203000
DTEND;TZID=America/New_York:20261225T203000
DTSTAMP:20260424T230107
CREATED:20240521T052853Z
LAST-MODIFIED:20250313T193220Z
UID:10006924-1798230600-1798230600@campchapel.org
SUMMARY:AA
DESCRIPTION:Fun\, old-fashion carnival games for all ages! Tickets 25 cents each or $5 to enjoy all the games! Also petting zoo\, crafts\, pony rides\, refreshments\, penny candy table\, souvenirs\, and more! Bring the whole family!
URL:https://campchapel.org/event/aa/2026-12-25/
END:VEVENT
BEGIN:VEVENT
DTSTART;TZID=America/New_York:20261222T190000
DTEND;TZID=America/New_York:20261222T190000
DTSTAMP:20260424T230107
CREATED:20240521T054854Z
LAST-MODIFIED:20241210T180044Z
UID:10005184-1797966000-1797966000@campchapel.org
SUMMARY:Church Council (Zoom)
DESCRIPTION:Fun\, old-fashion carnival games for all ages! Tickets 25 cents each or $5 to enjoy all the games! Also petting zoo\, crafts\, pony rides\, refreshments\, penny candy table\, souvenirs\, and more! Bring the whole family!
URL:https://campchapel.org/event/church-council-zoom/2026-12-22/
END:VEVENT
BEGIN:VEVENT
DTSTART;TZID=America/New_York:20261221T190000
DTEND;TZID=America/New_York:20261221T190000
DTSTAMP:20260424T230107
CREATED:20230511T165805Z
LAST-MODIFIED:20250225T191716Z
UID:10006243-1797879600-1797879600@campchapel.org
SUMMARY:By the Grace of NA
DESCRIPTION:Fun\, old-fashion carnival games for all ages! Tickets 25 cents each or $5 to enjoy all the games! Also petting zoo\, crafts\, pony rides\, refreshments\, penny candy table\, souvenirs\, and more! Bring the whole family!
URL:https://campchapel.org/event/by-the-grace-of-n-a/2026-12-21/
END:VEVENT
BEGIN:VEVENT
DTSTART;TZID=America/New_York:20261220T180000
DTEND;TZID=America/New_York:20261220T180000
DTSTAMP:20260424T230107
CREATED:20240521T052200Z
LAST-MODIFIED:20250225T191516Z
UID:10005981-1797789600-1797789600@campchapel.org
SUMMARY:Serenity NA
DESCRIPTION:Fun\, old-fashion carnival games for all ages! Tickets 25 cents each or $5 to enjoy all the games! Also petting zoo\, crafts\, pony rides\, refreshments\, penny candy table\, souvenirs\, and more! Bring the whole family!
URL:https://campchapel.org/event/serenity-na/2026-12-20/
END:VEVENT
BEGIN:VEVENT
DTSTART;TZID=America/New_York:20261220T093000
DTEND;TZID=America/New_York:20261220T093000
DTSTAMP:20260424T230107
CREATED:20240329T042203Z
LAST-MODIFIED:20251211T223004Z
UID:10003588-1797759000-1797759000@campchapel.org
SUMMARY:Contemporary Service & Sunday School
DESCRIPTION:Fun\, old-fashion carnival games for all ages! Tickets 25 cents each or $5 to enjoy all the games! Also petting zoo\, crafts\, pony rides\, refreshments\, penny candy table\, souvenirs\, and more! Bring the whole family!
URL:https://campchapel.org/event/contemporary-service-sunday-school/2026-12-20/
END:VEVENT
BEGIN:VEVENT
DTSTART;TZID=America/New_York:20261220T083000
DTEND;TZID=America/New_York:20261220T083000
DTSTAMP:20260424T230107
CREATED:20250509T083813Z
LAST-MODIFIED:20251211T222757Z
UID:10007187-1797755400-1797755400@campchapel.org
SUMMARY:Traditional Services 8:30 & 11
DESCRIPTION:Fun\, old-fashion carnival games for all ages! Tickets 25 cents each or $5 to enjoy all the games! Also petting zoo\, crafts\, pony rides\, refreshments\, penny candy table\, souvenirs\, and more! Bring the whole family!
URL:https://campchapel.org/event/traditiional-services-830-11-2-2-2/2026-12-20/
END:VEVENT
BEGIN:VEVENT
DTSTART;TZID=America/New_York:20261220T083000
DTEND;TZID=America/New_York:20261220T083000
DTSTAMP:20260424T230107
CREATED:20250509T081848Z
LAST-MODIFIED:20250509T083300Z
UID:10003327-1797755400-1797755400@campchapel.org
SUMMARY:Traditional Services 8:30 & 11
DESCRIPTION:Fun\, old-fashion carnival games for all ages! Tickets 25 cents each or $5 to enjoy all the games! Also petting zoo\, crafts\, pony rides\, refreshments\, penny candy table\, souvenirs\, and more! Bring the whole family!
URL:https://campchapel.org/event/traditiional-services-830-11-2-2/2026-12-20/
END:VEVENT
BEGIN:VEVENT
DTSTART;TZID=America/New_York:20261219T180000
DTEND;TZID=America/New_York:20261219T200000
DTSTAMP:20260424T230107
CREATED:20260211T185601Z
LAST-MODIFIED:20260211T185601Z
UID:10008123-1797703200-1797710400@campchapel.org
SUMMARY:Live Nativity
DESCRIPTION:Fun\, old-fashion carnival games for all ages! Tickets 25 cents each or $5 to enjoy all the games! Also petting zoo\, crafts\, pony rides\, refreshments\, penny candy table\, souvenirs\, and more! Bring the whole family!
URL:https://campchapel.org/event/live-nativity-2/
END:VEVENT
BEGIN:VEVENT
DTSTART;TZID=America/New_York:20261219T170000
DTEND;TZID=America/New_York:20261219T210000
DTSTAMP:20260424T230107
CREATED:20260211T185705Z
LAST-MODIFIED:20260211T185705Z
UID:10008124-1797699600-1797714000@campchapel.org
SUMMARY:HALL IN USE for Live Nativity Participants
DESCRIPTION:Fun\, old-fashion carnival games for all ages! Tickets 25 cents each or $5 to enjoy all the games! Also petting zoo\, crafts\, pony rides\, refreshments\, penny candy table\, souvenirs\, and more! Bring the whole family!
URL:https://campchapel.org/event/hall-in-use-for-live-nativity-participants/
END:VEVENT
BEGIN:VEVENT
DTSTART;TZID=America/New_York:20261218T203000
DTEND;TZID=America/New_York:20261218T203000
DTSTAMP:20260424T230107
CREATED:20240521T052853Z
LAST-MODIFIED:20250313T193220Z
UID:10006923-1797625800-1797625800@campchapel.org
SUMMARY:AA
DESCRIPTION:Fun\, old-fashion carnival games for all ages! Tickets 25 cents each or $5 to enjoy all the games! Also petting zoo\, crafts\, pony rides\, refreshments\, penny candy table\, souvenirs\, and more! Bring the whole family!
URL:https://campchapel.org/event/aa/2026-12-18/
END:VEVENT
BEGIN:VEVENT
DTSTART;TZID=America/New_York:20261216T190000
DTEND;TZID=America/New_York:20261216T190000
DTSTAMP:20260424T230107
CREATED:20240521T054015Z
LAST-MODIFIED:20240521T054015Z
UID:10004866-1797447600-1797447600@campchapel.org
SUMMARY:Band of Brothers
DESCRIPTION:Fun\, old-fashion carnival games for all ages! Tickets 25 cents each or $5 to enjoy all the games! Also petting zoo\, crafts\, pony rides\, refreshments\, penny candy table\, souvenirs\, and more! Bring the whole family!
URL:https://campchapel.org/event/band-of-brothers-2/2026-12-16/
END:VEVENT
BEGIN:VEVENT
DTSTART;TZID=America/New_York:20261215T183000
DTEND;TZID=America/New_York:20261215T183000
DTSTAMP:20260424T230107
CREATED:20260115T164842Z
LAST-MODIFIED:20260115T164846Z
UID:10008065-1797359400-1797359400@campchapel.org
SUMMARY:Circle of Sisters
DESCRIPTION:Fun\, old-fashion carnival games for all ages! Tickets 25 cents each or $5 to enjoy all the games! Also petting zoo\, crafts\, pony rides\, refreshments\, penny candy table\, souvenirs\, and more! Bring the whole family!
URL:https://campchapel.org/event/circle-of-sisters-2-2/2026-12-15/
END:VEVENT
BEGIN:VEVENT
DTSTART;TZID=America/New_York:20261214T190000
DTEND;TZID=America/New_York:20261214T190000
DTSTAMP:20260424T230107
CREATED:20230511T165805Z
LAST-MODIFIED:20250225T191716Z
UID:10006242-1797274800-1797274800@campchapel.org
SUMMARY:By the Grace of NA
DESCRIPTION:Fun\, old-fashion carnival games for all ages! Tickets 25 cents each or $5 to enjoy all the games! Also petting zoo\, crafts\, pony rides\, refreshments\, penny candy table\, souvenirs\, and more! Bring the whole family!
URL:https://campchapel.org/event/by-the-grace-of-n-a/2026-12-14/
END:VEVENT
END:VCALENDAR