BEGIN:VCALENDAR
VERSION:2.0
PRODID:-//Camp Chapel United Methodist Church - ECPv6.15.20//NONSGML v1.0//EN
CALSCALE:GREGORIAN
METHOD:PUBLISH
X-WR-CALNAME:Camp Chapel United Methodist Church
X-ORIGINAL-URL:https://campchapel.org
X-WR-CALDESC:Events for Camp Chapel United Methodist Church
REFRESH-INTERVAL;VALUE=DURATION:PT1H
X-Robots-Tag:noindex
X-PUBLISHED-TTL:PT1H
BEGIN:VTIMEZONE
TZID:America/New_York
BEGIN:DAYLIGHT
TZOFFSETFROM:-0500
TZOFFSETTO:-0400
TZNAME:EDT
DTSTART:20250309T070000
END:DAYLIGHT
BEGIN:STANDARD
TZOFFSETFROM:-0400
TZOFFSETTO:-0500
TZNAME:EST
DTSTART:20251102T060000
END:STANDARD
BEGIN:DAYLIGHT
TZOFFSETFROM:-0500
TZOFFSETTO:-0400
TZNAME:EDT
DTSTART:20260308T070000
END:DAYLIGHT
BEGIN:STANDARD
TZOFFSETFROM:-0400
TZOFFSETTO:-0500
TZNAME:EST
DTSTART:20261101T060000
END:STANDARD
BEGIN:DAYLIGHT
TZOFFSETFROM:-0500
TZOFFSETTO:-0400
TZNAME:EDT
DTSTART:20270314T070000
END:DAYLIGHT
BEGIN:STANDARD
TZOFFSETFROM:-0400
TZOFFSETTO:-0500
TZNAME:EST
DTSTART:20271107T060000
END:STANDARD
END:VTIMEZONE
BEGIN:VEVENT
DTSTART;TZID=America/New_York:20260426T093000
DTEND;TZID=America/New_York:20260426T093000
DTSTAMP:20260424T210104
CREATED:20260424T222506Z
LAST-MODIFIED:20260424T222556Z
UID:10008222-1777195800-1777195800@campchapel.org
SUMMARY:Adult Bible Study: "The Holy Spirit: God's Presence and Power at Work in Us" by Adam Hamilton
DESCRIPTION:
URL:https://campchapel.org/event/adult-bible-study-the-holy-spirit-gods-presence-and-power-at-work-in-us-by-adam-hamilton/2026-04-26/
ATTACH;FMTTYPE=image/jpeg:https://campchapel.org/wp-content/uploads/2026/04/Bible-Study-The-Holy-Spirit.jpg
END:VEVENT
BEGIN:VEVENT
DTSTART;TZID=America/New_York:20260427T110000
DTEND;TZID=America/New_York:20260427T110000
DTSTAMP:20260424T210104
CREATED:20260424T222813Z
LAST-MODIFIED:20260424T222839Z
UID:10008237-1777287600-1777287600@campchapel.org
SUMMARY:Adult Bible Study: "The Holy Spirit: God's Presence and Power at Work in Us" by Adam Hamilton
DESCRIPTION:
URL:https://campchapel.org/event/adult-bible-study-the-holy-spirit-gods-presence-and-power-at-work-in-us-by-adam-hamilton-2/2026-04-27/
ATTACH;FMTTYPE=image/jpeg:https://campchapel.org/wp-content/uploads/2026/04/Bible-Study-The-Holy-Spirit.jpg
END:VEVENT
BEGIN:VEVENT
DTSTART;TZID=America/New_York:20260503T093000
DTEND;TZID=America/New_York:20260503T093000
DTSTAMP:20260424T210104
CREATED:20260424T222506Z
LAST-MODIFIED:20260424T222556Z
UID:10008223-1777800600-1777800600@campchapel.org
SUMMARY:Adult Bible Study: "The Holy Spirit: God's Presence and Power at Work in Us" by Adam Hamilton
DESCRIPTION:
URL:https://campchapel.org/event/adult-bible-study-the-holy-spirit-gods-presence-and-power-at-work-in-us-by-adam-hamilton/2026-05-03/
ATTACH;FMTTYPE=image/jpeg:https://campchapel.org/wp-content/uploads/2026/04/Bible-Study-The-Holy-Spirit.jpg
END:VEVENT
BEGIN:VEVENT
DTSTART;TZID=America/New_York:20260504T110000
DTEND;TZID=America/New_York:20260504T110000
DTSTAMP:20260424T210104
CREATED:20260424T222813Z
LAST-MODIFIED:20260424T222839Z
UID:10008238-1777892400-1777892400@campchapel.org
SUMMARY:Adult Bible Study: "The Holy Spirit: God's Presence and Power at Work in Us" by Adam Hamilton
DESCRIPTION:
URL:https://campchapel.org/event/adult-bible-study-the-holy-spirit-gods-presence-and-power-at-work-in-us-by-adam-hamilton-2/2026-05-04/
ATTACH;FMTTYPE=image/jpeg:https://campchapel.org/wp-content/uploads/2026/04/Bible-Study-The-Holy-Spirit.jpg
END:VEVENT
BEGIN:VEVENT
DTSTART;TZID=America/New_York:20260510T093000
DTEND;TZID=America/New_York:20260510T093000
DTSTAMP:20260424T210104
CREATED:20260424T222506Z
LAST-MODIFIED:20260424T222556Z
UID:10008224-1778405400-1778405400@campchapel.org
SUMMARY:Adult Bible Study: "The Holy Spirit: God's Presence and Power at Work in Us" by Adam Hamilton
DESCRIPTION:
URL:https://campchapel.org/event/adult-bible-study-the-holy-spirit-gods-presence-and-power-at-work-in-us-by-adam-hamilton/2026-05-10/
ATTACH;FMTTYPE=image/jpeg:https://campchapel.org/wp-content/uploads/2026/04/Bible-Study-The-Holy-Spirit.jpg
END:VEVENT
BEGIN:VEVENT
DTSTART;TZID=America/New_York:20260511T110000
DTEND;TZID=America/New_York:20260511T110000
DTSTAMP:20260424T210104
CREATED:20260424T222813Z
LAST-MODIFIED:20260424T222839Z
UID:10008239-1778497200-1778497200@campchapel.org
SUMMARY:Adult Bible Study: "The Holy Spirit: God's Presence and Power at Work in Us" by Adam Hamilton
DESCRIPTION:
URL:https://campchapel.org/event/adult-bible-study-the-holy-spirit-gods-presence-and-power-at-work-in-us-by-adam-hamilton-2/2026-05-11/
ATTACH;FMTTYPE=image/jpeg:https://campchapel.org/wp-content/uploads/2026/04/Bible-Study-The-Holy-Spirit.jpg
END:VEVENT
BEGIN:VEVENT
DTSTART;TZID=America/New_York:20260517T093000
DTEND;TZID=America/New_York:20260517T093000
DTSTAMP:20260424T210104
CREATED:20260424T222506Z
LAST-MODIFIED:20260424T222556Z
UID:10008225-1779010200-1779010200@campchapel.org
SUMMARY:Adult Bible Study: "The Holy Spirit: God's Presence and Power at Work in Us" by Adam Hamilton
DESCRIPTION:
URL:https://campchapel.org/event/adult-bible-study-the-holy-spirit-gods-presence-and-power-at-work-in-us-by-adam-hamilton/2026-05-17/
ATTACH;FMTTYPE=image/jpeg:https://campchapel.org/wp-content/uploads/2026/04/Bible-Study-The-Holy-Spirit.jpg
END:VEVENT
BEGIN:VEVENT
DTSTART;TZID=America/New_York:20260518T110000
DTEND;TZID=America/New_York:20260518T110000
DTSTAMP:20260424T210104
CREATED:20260424T222813Z
LAST-MODIFIED:20260424T222839Z
UID:10008240-1779102000-1779102000@campchapel.org
SUMMARY:Adult Bible Study: "The Holy Spirit: God's Presence and Power at Work in Us" by Adam Hamilton
DESCRIPTION:
URL:https://campchapel.org/event/adult-bible-study-the-holy-spirit-gods-presence-and-power-at-work-in-us-by-adam-hamilton-2/2026-05-18/
ATTACH;FMTTYPE=image/jpeg:https://campchapel.org/wp-content/uploads/2026/04/Bible-Study-The-Holy-Spirit.jpg
END:VEVENT
BEGIN:VEVENT
DTSTART;TZID=America/New_York:20260524T093000
DTEND;TZID=America/New_York:20260524T093000
DTSTAMP:20260424T210104
CREATED:20260424T222506Z
LAST-MODIFIED:20260424T222556Z
UID:10008226-1779615000-1779615000@campchapel.org
SUMMARY:Adult Bible Study: "The Holy Spirit: God's Presence and Power at Work in Us" by Adam Hamilton
DESCRIPTION:
URL:https://campchapel.org/event/adult-bible-study-the-holy-spirit-gods-presence-and-power-at-work-in-us-by-adam-hamilton/2026-05-24/
ATTACH;FMTTYPE=image/jpeg:https://campchapel.org/wp-content/uploads/2026/04/Bible-Study-The-Holy-Spirit.jpg
END:VEVENT
BEGIN:VEVENT
DTSTART;TZID=America/New_York:20260525T110000
DTEND;TZID=America/New_York:20260525T110000
DTSTAMP:20260424T210104
CREATED:20260424T222813Z
LAST-MODIFIED:20260424T222839Z
UID:10008241-1779706800-1779706800@campchapel.org
SUMMARY:Adult Bible Study: "The Holy Spirit: God's Presence and Power at Work in Us" by Adam Hamilton
DESCRIPTION:
URL:https://campchapel.org/event/adult-bible-study-the-holy-spirit-gods-presence-and-power-at-work-in-us-by-adam-hamilton-2/2026-05-25/
ATTACH;FMTTYPE=image/jpeg:https://campchapel.org/wp-content/uploads/2026/04/Bible-Study-The-Holy-Spirit.jpg
END:VEVENT
END:VCALENDAR