BEGIN:VCALENDAR
VERSION:2.0
PRODID:-//Camp Chapel United Methodist Church - ECPv6.15.20//NONSGML v1.0//EN
CALSCALE:GREGORIAN
METHOD:PUBLISH
X-WR-CALNAME:Camp Chapel United Methodist Church
X-ORIGINAL-URL:https://campchapel.org
X-WR-CALDESC:Events for Camp Chapel United Methodist Church
REFRESH-INTERVAL;VALUE=DURATION:PT1H
X-Robots-Tag:noindex
X-PUBLISHED-TTL:PT1H
BEGIN:VTIMEZONE
TZID:America/New_York
BEGIN:DAYLIGHT
TZOFFSETFROM:-0500
TZOFFSETTO:-0400
TZNAME:EDT
DTSTART:20250309T070000
END:DAYLIGHT
BEGIN:STANDARD
TZOFFSETFROM:-0400
TZOFFSETTO:-0500
TZNAME:EST
DTSTART:20251102T060000
END:STANDARD
BEGIN:DAYLIGHT
TZOFFSETFROM:-0500
TZOFFSETTO:-0400
TZNAME:EDT
DTSTART:20260308T070000
END:DAYLIGHT
BEGIN:STANDARD
TZOFFSETFROM:-0400
TZOFFSETTO:-0500
TZNAME:EST
DTSTART:20261101T060000
END:STANDARD
BEGIN:DAYLIGHT
TZOFFSETFROM:-0500
TZOFFSETTO:-0400
TZNAME:EDT
DTSTART:20270314T070000
END:DAYLIGHT
BEGIN:STANDARD
TZOFFSETFROM:-0400
TZOFFSETTO:-0500
TZNAME:EST
DTSTART:20271107T060000
END:STANDARD
END:VTIMEZONE
BEGIN:VEVENT
DTSTART;VALUE=DATE:20260907
DTEND;VALUE=DATE:20260908
DTSTAMP:20260423T055756
CREATED:20260421T173505Z
LAST-MODIFIED:20260421T173505Z
UID:10008220-1788739200-1788825599@campchapel.org
SUMMARY:Camp Chapel UMC Office CLOSED
DESCRIPTION:
URL:https://campchapel.org/event/camp-chapel-umc-office-closed-2/
LOCATION:Camp Chapel UMC\, 5000 E Joppa Rd\, Perry Hall\, MD\, 21128\, United States
END:VEVENT
BEGIN:VEVENT
DTSTART;VALUE=DATE:20261126
DTEND;VALUE=DATE:20261127
DTSTAMP:20260423T055756
CREATED:20260421T173558Z
LAST-MODIFIED:20260421T173558Z
UID:10008221-1795651200-1795737599@campchapel.org
SUMMARY:Camp Chapel UMC Office - CLOSED
DESCRIPTION:
URL:https://campchapel.org/event/camp-chapel-umc-office-closed-3/
LOCATION:Camp Chapel UMC\, 5000 E Joppa Rd\, Perry Hall\, MD\, 21128\, United States
END:VEVENT
BEGIN:VEVENT
DTSTART;TZID=America/New_York:20261212T140000
DTEND;TZID=America/New_York:20261212T160000
DTSTAMP:20260423T055756
CREATED:20260406T193310Z
LAST-MODIFIED:20260406T193310Z
UID:10008214-1797084000-1797091200@campchapel.org
SUMMARY:Gingerbread House Event
DESCRIPTION:
URL:https://campchapel.org/event/gingerbread-house-event/
LOCATION:Camp Chapel UMC\, 5000 E Joppa Rd\, Perry Hall\, MD\, 21128\, United States
END:VEVENT
END:VCALENDAR